BEGIN:VCALENDAR
VERSION:2.0
PRODID:-//AusschreibungsRadar//Timeline//DE
CALSCALE:GREGORIAN
METHOD:PUBLISH
X-WR-CALNAME:Projekt Beschaffung von Arbeitsplatzsystemen (Hardware, Software und
X-WR-TIMEZONE:Europe/Berlin
BEGIN:VEVENT
UID:be68087b5b4b22e3@ausschreibungsradar.com
DTSTAMP:20260425T194739Z
DTSTART;VALUE=DATE:20251217
DTEND;VALUE=DATE:20251217
SUMMARY:Angebotsfrist — Beschaffung von Arbeitsplatzsystemen (Hardware\, Software und
DESCRIPTION:Phase: Ausschreibung | Beschreibung: Angebote werden eingeholt | Link: https://ausschreibungsradar.com/ausschreibung/634cef46-9e74-4c25-bcfe-b8b3b0eb5475/
URL:https://ausschreibungsradar.com/ausschreibung/634cef46-9e74-4c25-bcfe-b8b3b0eb5475/
END:VEVENT
BEGIN:VEVENT
UID:83a50709bdfb23d2@ausschreibungsradar.com
DTSTAMP:20260425T194739Z
DTSTART;VALUE=DATE:20251203
DTEND;VALUE=DATE:20251203
SUMMARY:Ausschreibung — Beschaffung von Arbeitsplatzsystemen (Hardware\, Software und
DESCRIPTION:Phase: Ausschreibung | Beschreibung: Offizielle Ausschreibung mit Bieterfrist. | Link: https://ausschreibungsradar.com/ausschreibung/4d322c0f-c0da-479e-9e9c-8a84c6a4a9dc/
URL:https://ausschreibungsradar.com/ausschreibung/4d322c0f-c0da-479e-9e9c-8a84c6a4a9dc/
END:VEVENT
END:VCALENDAR
