BEGIN:VCALENDAR
VERSION:2.0
PRODID:-//AusschreibungsRadar//Timeline//DE
CALSCALE:GREGORIAN
METHOD:PUBLISH
X-WR-CALNAME:Projekt EMB-Arbeiten - Neubau Anne-Frank-Schule Saarlouis
X-WR-TIMEZONE:Europe/Berlin
BEGIN:VEVENT
UID:4ec2cf652192d9ca@ausschreibungsradar.com
DTSTAMP:20260425T154453Z
DTSTART;VALUE=DATE:20260220
DTEND;VALUE=DATE:20260220
SUMMARY:Ausschreibung — EMB-Arbeiten - Neubau Anne-Frank-Schule Saarlouis
DESCRIPTION:Phase: Ausschreibung | Beschreibung: Angebote werden eingeholt | Link: https://ausschreibungsradar.com/ausschreibung/634e1337-89d4-4380-b1e4-ffdbc1e9bae8/
URL:https://ausschreibungsradar.com/ausschreibung/634e1337-89d4-4380-b1e4-ffdbc1e9bae8/
END:VEVENT
BEGIN:VEVENT
UID:598c17b4d346d0c4@ausschreibungsradar.com
DTSTAMP:20260425T154453Z
DTSTART;VALUE=DATE:20260220
DTEND;VALUE=DATE:20260220
SUMMARY:Ausschreibung — EMB-Arbeiten - Neubau Anne-Frank-Schule Saarlouis
DESCRIPTION:Phase: Ausschreibung | Beschreibung: Offizielle Ausschreibung mit Bieterfrist. | Link: https://ausschreibungsradar.com/ausschreibung/f3c1799e-e57a-42f9-b9d6-73de8e38a361/
URL:https://ausschreibungsradar.com/ausschreibung/f3c1799e-e57a-42f9-b9d6-73de8e38a361/
END:VEVENT
END:VCALENDAR
