BEGIN:VCALENDAR
VERSION:2.0
PRODID:-//AusschreibungsRadar//Timeline//DE
CALSCALE:GREGORIAN
METHOD:PUBLISH
X-WR-CALNAME:Projekt Sanierung ASS | Elektroarbeiten + Wartung
X-WR-TIMEZONE:Europe/Berlin
BEGIN:VEVENT
UID:1d11a933911a4bc6@ausschreibungsradar.com
DTSTAMP:20260424T062701Z
DTSTART;VALUE=DATE:20240325
DTEND;VALUE=DATE:20240325
SUMMARY:Angebotsfrist — Sanierung ASS | Elektroarbeiten + Wartung
DESCRIPTION:Phase: Ausschreibung | Beschreibung: Angebote werden eingeholt | Link: https://ausschreibungsradar.com/ausschreibung/63f6b7e5-69eb-4f22-8b05-4ddb786f44cf/
URL:https://ausschreibungsradar.com/ausschreibung/63f6b7e5-69eb-4f22-8b05-4ddb786f44cf/
END:VEVENT
BEGIN:VEVENT
UID:181e97e6117eeb2d@ausschreibungsradar.com
DTSTAMP:20260424T062701Z
DTSTART;VALUE=DATE:20240614
DTEND;VALUE=DATE:20240614
SUMMARY:Vergabeergebnis — Sanierung ASS | Elektroarbeiten + Wartung
DESCRIPTION:Phase: Vergabeergebnis | Beschreibung: Auftrag wurde zugeschlagen | Link: https://ausschreibungsradar.com/ausschreibung/d2d7a9a4-4509-4be6-ae05-9d2914a477e5/
URL:https://ausschreibungsradar.com/ausschreibung/d2d7a9a4-4509-4be6-ae05-9d2914a477e5/
END:VEVENT
END:VCALENDAR
