BEGIN:VCALENDAR
VERSION:2.0
PRODID:-//AusschreibungsRadar//Timeline//DE
CALSCALE:GREGORIAN
METHOD:PUBLISH
X-WR-CALNAME:Projekt Catering in der Landesunterkunft Boostedt
X-WR-TIMEZONE:Europe/Berlin
BEGIN:VEVENT
UID:efd3fa0b99766281@ausschreibungsradar.com
DTSTAMP:20260425T023855Z
DTSTART;VALUE=DATE:20260427
DTEND;VALUE=DATE:20260427
SUMMARY:Angebotsfrist — Catering in der Landesunterkunft Boostedt
DESCRIPTION:Phase: Ausschreibung | Beschreibung: Angebote werden eingeholt | Link: https://ausschreibungsradar.com/ausschreibung/64600114-be1e-4e58-b311-06d5c8239ede/
URL:https://ausschreibungsradar.com/ausschreibung/64600114-be1e-4e58-b311-06d5c8239ede/
END:VEVENT
END:VCALENDAR
