BEGIN:VCALENDAR
VERSION:2.0
PRODID:-//AusschreibungsRadar//Timeline//DE
CALSCALE:GREGORIAN
METHOD:PUBLISH
X-WR-CALNAME:Projekt Erweiterung Schule Finsing; Lose Möblierung
X-WR-TIMEZONE:Europe/Berlin
BEGIN:VEVENT
UID:789ba72878b79b2d@ausschreibungsradar.com
DTSTAMP:20260426T004932Z
DTSTART;VALUE=DATE:20250115
DTEND;VALUE=DATE:20250115
SUMMARY:Angebotsfrist — Erweiterung Schule Finsing\; Lose Möblierung
DESCRIPTION:Phase: Ausschreibung | Beschreibung: Angebote werden eingeholt | Link: https://ausschreibungsradar.com/ausschreibung/646ded5d-50c0-44fa-9ff3-1781da6478f3/
URL:https://ausschreibungsradar.com/ausschreibung/646ded5d-50c0-44fa-9ff3-1781da6478f3/
END:VEVENT
END:VCALENDAR
