BEGIN:VCALENDAR
VERSION:2.0
PRODID:-//AusschreibungsRadar//Timeline//DE
CALSCALE:GREGORIAN
METHOD:PUBLISH
X-WR-CALNAME:Projekt Lieferung von vier vollelektrisch angetriebenen Pritschenfah
X-WR-TIMEZONE:Europe/Berlin
BEGIN:VEVENT
UID:e43e51cc6ae6f8a7@ausschreibungsradar.com
DTSTAMP:20260424T050016Z
DTSTART;VALUE=DATE:20250812
DTEND;VALUE=DATE:20250812
SUMMARY:Angebotsfrist — Lieferung von vier vollelektrisch angetriebenen Pritschenfah
DESCRIPTION:Phase: Ausschreibung | Beschreibung: Angebote werden eingeholt | Link: https://ausschreibungsradar.com/ausschreibung/67a9528f-df0c-474e-a351-6e2cc4eabcfd/
URL:https://ausschreibungsradar.com/ausschreibung/67a9528f-df0c-474e-a351-6e2cc4eabcfd/
END:VEVENT
BEGIN:VEVENT
UID:6538e50a92674aa4@ausschreibungsradar.com
DTSTAMP:20260424T050016Z
DTSTART;VALUE=DATE:20251028
DTEND;VALUE=DATE:20251028
SUMMARY:Vergabeergebnis — Lieferung von vier vollelektrisch angetriebenen Pritschenfah
DESCRIPTION:Phase: Vergabeergebnis | Beschreibung: Auftrag wurde zugeschlagen | Link: https://ausschreibungsradar.com/ausschreibung/a61470b0-79ae-434e-947b-551a3f2a35a7/
URL:https://ausschreibungsradar.com/ausschreibung/a61470b0-79ae-434e-947b-551a3f2a35a7/
END:VEVENT
END:VCALENDAR
