BEGIN:VCALENDAR
VERSION:2.0
PRODID:-//AusschreibungsRadar//Timeline//DE
CALSCALE:GREGORIAN
METHOD:PUBLISH
X-WR-CALNAME:Projekt Unterhalts- und Grundreinigung Grundschule "Nord", Straße de
X-WR-TIMEZONE:Europe/Berlin
BEGIN:VEVENT
UID:8b9f0ed3aa694084@ausschreibungsradar.com
DTSTAMP:20260425T180949Z
DTSTART;VALUE=DATE:20251010
DTEND;VALUE=DATE:20251010
SUMMARY:Ausschreibung — Unterhalts- und Grundreinigung Grundschule "Nord"\, Straße de
DESCRIPTION:Phase: Ausschreibung | Beschreibung: Angebote werden eingeholt | Link: https://ausschreibungsradar.com/ausschreibung/46f94cef-d38c-41c7-989f-33834a05b145/
URL:https://ausschreibungsradar.com/ausschreibung/46f94cef-d38c-41c7-989f-33834a05b145/
END:VEVENT
BEGIN:VEVENT
UID:7da29574e9d4ba71@ausschreibungsradar.com
DTSTAMP:20260425T180949Z
DTSTART;VALUE=DATE:20251010
DTEND;VALUE=DATE:20251010
SUMMARY:Ausschreibung — Unterhalts- und Grundreinigung Grundschule "Nord"\, Straße de
DESCRIPTION:Phase: Ausschreibung | Beschreibung: Offizielle Ausschreibung mit Bieterfrist. | Link: https://ausschreibungsradar.com/ausschreibung/cd5fae46-0745-46f6-95f2-38f343700da6/
URL:https://ausschreibungsradar.com/ausschreibung/cd5fae46-0745-46f6-95f2-38f343700da6/
END:VEVENT
BEGIN:VEVENT
UID:17fe34bea4e99532@ausschreibungsradar.com
DTSTAMP:20260425T180949Z
DTSTART;VALUE=DATE:20251128
DTEND;VALUE=DATE:20251128
SUMMARY:Zuschlag — Unterhalts- und Grundreinigung Grundschule "Nord"\, Straße de
DESCRIPTION:Phase: Zuschlag | Beschreibung: Vergabeergebnis — Auftrag wurde erteilt oder Verfahren beendet. | Link: https://ausschreibungsradar.com/ausschreibung/e682718c-2fd7-4c4e-a990-68781cc7e36b/
URL:https://ausschreibungsradar.com/ausschreibung/e682718c-2fd7-4c4e-a990-68781cc7e36b/
END:VEVENT
BEGIN:VEVENT
UID:bfa37c3e627e501a@ausschreibungsradar.com
DTSTAMP:20260425T180949Z
DTSTART;VALUE=DATE:20251201
DTEND;VALUE=DATE:20251201
SUMMARY:Vergabeergebnis — Unterhalts- und Grundreinigung Grundschule "Nord"\, Straße de
DESCRIPTION:Phase: Vergabeergebnis | Beschreibung: Bedarf hat sich geändert | Link: https://ausschreibungsradar.com/ausschreibung/67bbdac5-b444-48de-9b91-c5041ee9581f/
URL:https://ausschreibungsradar.com/ausschreibung/67bbdac5-b444-48de-9b91-c5041ee9581f/
END:VEVENT
END:VCALENDAR
