BEGIN:VCALENDAR
VERSION:2.0
PRODID:-//AusschreibungsRadar//Timeline//DE
CALSCALE:GREGORIAN
METHOD:PUBLISH
X-WR-CALNAME:Projekt Trockensortiment/ Süßwaren/ Fette & Öle/ Erfrischungsgetränk
X-WR-TIMEZONE:Europe/Berlin
BEGIN:VEVENT
UID:bfa56558bfdc90ff@ausschreibungsradar.com
DTSTAMP:20260425T005620Z
DTSTART;VALUE=DATE:20251112
DTEND;VALUE=DATE:20251112
SUMMARY:Angebotsfrist — Trockensortiment/ Süßwaren/ Fette & Öle/ Erfrischungsgetränk
DESCRIPTION:Phase: Ausschreibung | Beschreibung: Angebote werden eingeholt | Link: https://ausschreibungsradar.com/ausschreibung/68e1e91a-93ad-4f0f-a24f-be01a4891a0e/ | Geschätzter Wert: 3912886 €
URL:https://ausschreibungsradar.com/ausschreibung/68e1e91a-93ad-4f0f-a24f-be01a4891a0e/
END:VEVENT
BEGIN:VEVENT
UID:4f64a06f3e600a15@ausschreibungsradar.com
DTSTAMP:20260425T005620Z
DTSTART;VALUE=DATE:20251008
DTEND;VALUE=DATE:20251008
SUMMARY:Ausschreibung — Trockensortiment/ Süßwaren/ Fette & Öle/ Erfrischungsgetränk
DESCRIPTION:Phase: Ausschreibung | Beschreibung: Offizielle Ausschreibung mit Bieterfrist. | Link: https://ausschreibungsradar.com/ausschreibung/ted-658125-2025/
URL:https://ausschreibungsradar.com/ausschreibung/ted-658125-2025/
END:VEVENT
BEGIN:VEVENT
UID:dfc0a666bd74cbf3@ausschreibungsradar.com
DTSTAMP:20260425T005620Z
DTSTART;VALUE=DATE:20251216
DTEND;VALUE=DATE:20251216
SUMMARY:Vergabeergebnis — Trockensortiment/ Süßwaren/ Fette & Öle/ Erfrischungsgetränk
DESCRIPTION:Phase: Vergabeergebnis | Beschreibung: Auftrag wurde zugeschlagen | Link: https://ausschreibungsradar.com/ausschreibung/65c80714-64a8-4481-a779-ff34429ab77f/ | Geschätzter Wert: 3912886 €
URL:https://ausschreibungsradar.com/ausschreibung/65c80714-64a8-4481-a779-ff34429ab77f/
END:VEVENT
END:VCALENDAR
