BEGIN:VCALENDAR
VERSION:2.0
PRODID:-//AusschreibungsRadar//Timeline//DE
CALSCALE:GREGORIAN
METHOD:PUBLISH
X-WR-CALNAME:Projekt Vorgehängte Hinterlüftete Fassaden VE38
X-WR-TIMEZONE:Europe/Berlin
BEGIN:VEVENT
UID:0b882156c0976879@ausschreibungsradar.com
DTSTAMP:20260425T014033Z
DTSTART;VALUE=DATE:20251017
DTEND;VALUE=DATE:20251017
SUMMARY:Ausschreibung — Vorgehängte Hinterlüftete Fassaden VE38
DESCRIPTION:Phase: Ausschreibung | Beschreibung: Offizielle Ausschreibung mit Bieterfrist. | Link: https://ausschreibungsradar.com/ausschreibung/6ec81495-ed12-43a6-8239-8a4505f97789/
URL:https://ausschreibungsradar.com/ausschreibung/6ec81495-ed12-43a6-8239-8a4505f97789/
END:VEVENT
BEGIN:VEVENT
UID:b9d1471f069d724c@ausschreibungsradar.com
DTSTAMP:20260425T014033Z
DTSTART;VALUE=DATE:20251029
DTEND;VALUE=DATE:20251029
SUMMARY:Ausschreibung — Vorgehängte Hinterlüftete Fassaden VE38
DESCRIPTION:Phase: Ausschreibung | Beschreibung: Angebote werden eingeholt | Link: https://ausschreibungsradar.com/ausschreibung/69de5e70-3295-4cb1-be4f-78e2a65be7ab/
URL:https://ausschreibungsradar.com/ausschreibung/69de5e70-3295-4cb1-be4f-78e2a65be7ab/
END:VEVENT
BEGIN:VEVENT
UID:2da4bd87b88f0b25@ausschreibungsradar.com
DTSTAMP:20260425T014033Z
DTSTART;VALUE=DATE:20260113
DTEND;VALUE=DATE:20260113
SUMMARY:Vergabeergebnis — Vorgehängte Hinterlüftete Fassaden VE38
DESCRIPTION:Phase: Vergabeergebnis | Beschreibung: Auftrag wurde zugeschlagen | Link: https://ausschreibungsradar.com/ausschreibung/167897a4-21f4-416f-86f5-d1c5ac36bffd/ | Auftragnehmer: GEBOtherm Fassadensysteme
URL:https://ausschreibungsradar.com/ausschreibung/167897a4-21f4-416f-86f5-d1c5ac36bffd/
END:VEVENT
END:VCALENDAR
