BEGIN:VCALENDAR
VERSION:2.0
PRODID:-//AusschreibungsRadar//Timeline//DE
CALSCALE:GREGORIAN
METHOD:PUBLISH
X-WR-CALNAME:Projekt Planung Neubau der Katastrophenschutzhalle
X-WR-TIMEZONE:Europe/Berlin
BEGIN:VEVENT
UID:75a5cdcd71944ac1@ausschreibungsradar.com
DTSTAMP:20260424T065958Z
DTSTART;VALUE=DATE:20250709
DTEND;VALUE=DATE:20250709
SUMMARY:Ausschreibung — Planung Neubau der Katastrophenschutzhalle
DESCRIPTION:Phase: Ausschreibung | Beschreibung: Angebote werden eingeholt | Link: https://ausschreibungsradar.com/ausschreibung/6bab89b4-31aa-43eb-989f-c92a5c8c25c8/ | Geschätzter Wert: 981000 €
URL:https://ausschreibungsradar.com/ausschreibung/6bab89b4-31aa-43eb-989f-c92a5c8c25c8/
END:VEVENT
BEGIN:VEVENT
UID:1e672aefe8c188d2@ausschreibungsradar.com
DTSTAMP:20260424T065958Z
DTSTART;VALUE=DATE:20251211
DTEND;VALUE=DATE:20251211
SUMMARY:Vergabeergebnis — Planung Neubau der Katastrophenschutzhalle
DESCRIPTION:Phase: Vergabeergebnis | Beschreibung: Auftrag wurde zugeschlagen | Link: https://ausschreibungsradar.com/ausschreibung/b801db03-657f-4bec-92e9-400a9bd296ba/ | Geschätzter Wert: 981000 €
URL:https://ausschreibungsradar.com/ausschreibung/b801db03-657f-4bec-92e9-400a9bd296ba/
END:VEVENT
END:VCALENDAR
