BEGIN:VCALENDAR
VERSION:2.0
PRODID:-//AusschreibungsRadar//Timeline//DE
CALSCALE:GREGORIAN
METHOD:PUBLISH
X-WR-CALNAME:Projekt Elektrotechnische Anlagen
X-WR-TIMEZONE:Europe/Berlin
BEGIN:VEVENT
UID:573508f5a6695449@ausschreibungsradar.com
DTSTAMP:20260425T202225Z
DTSTART;VALUE=DATE:20260203
DTEND;VALUE=DATE:20260203
SUMMARY:Angebotsfrist — Elektrotechnische Anlagen
DESCRIPTION:Phase: Ausschreibung | Beschreibung: Angebote werden eingeholt | Link: https://ausschreibungsradar.com/ausschreibung/f3f7f543-a9fa-4be9-b8ec-72fd489f2e73/
URL:https://ausschreibungsradar.com/ausschreibung/f3f7f543-a9fa-4be9-b8ec-72fd489f2e73/
END:VEVENT
BEGIN:VEVENT
UID:c4e26f8cfdf4f846@ausschreibungsradar.com
DTSTAMP:20260425T202225Z
DTSTART;VALUE=DATE:20260327
DTEND;VALUE=DATE:20260327
SUMMARY:Vergabeergebnis — Elektrotechnische Anlagen
DESCRIPTION:Phase: Vergabeergebnis | Beschreibung: Auftrag wurde zugeschlagen | Link: https://ausschreibungsradar.com/ausschreibung/6c798fc4-6600-4632-98a6-d822e24d5d21/
URL:https://ausschreibungsradar.com/ausschreibung/6c798fc4-6600-4632-98a6-d822e24d5d21/
END:VEVENT
END:VCALENDAR
