BEGIN:VCALENDAR
VERSION:2.0
PRODID:-//AusschreibungsRadar//Timeline//DE
CALSCALE:GREGORIAN
METHOD:PUBLISH
X-WR-CALNAME:Projekt Vergabe von Personenbeförderungsleistungen im Linienverkehr 
X-WR-TIMEZONE:Europe/Berlin
BEGIN:VEVENT
UID:e047287971f48242@ausschreibungsradar.com
DTSTAMP:20260424T115252Z
DTSTART;VALUE=DATE:20250829
DTEND;VALUE=DATE:20250829
SUMMARY:Angebotsfrist — Vergabe von Personenbeförderungsleistungen im Linienverkehr 
DESCRIPTION:Phase: Ausschreibung | Beschreibung: Angebote werden eingeholt | Link: https://ausschreibungsradar.com/ausschreibung/6c7a4c00-eae6-4d4f-a237-4a1fe6e482d6/
URL:https://ausschreibungsradar.com/ausschreibung/6c7a4c00-eae6-4d4f-a237-4a1fe6e482d6/
END:VEVENT
BEGIN:VEVENT
UID:592aa6a31acaa3e7@ausschreibungsradar.com
DTSTAMP:20260424T115252Z
DTSTART;VALUE=DATE:20250716
DTEND;VALUE=DATE:20250716
SUMMARY:Ausschreibung — Vergabe von Personenbeförderungsleistungen im Linienverkehr 
DESCRIPTION:Phase: Ausschreibung | Beschreibung: Offizielle Ausschreibung mit Bieterfrist. | Link: https://ausschreibungsradar.com/ausschreibung/fd38de83-05d8-4613-aae9-cc2da4c55a9d/
URL:https://ausschreibungsradar.com/ausschreibung/fd38de83-05d8-4613-aae9-cc2da4c55a9d/
END:VEVENT
BEGIN:VEVENT
UID:4570b18ef0cc0518@ausschreibungsradar.com
DTSTAMP:20260424T115252Z
DTSTART;VALUE=DATE:20250716
DTEND;VALUE=DATE:20250716
SUMMARY:Ausschreibung — Vergabe von Personenbeförderungsleistungen im Linienverkehr 
DESCRIPTION:Phase: Ausschreibung | Beschreibung: Offizielle Ausschreibung mit Bieterfrist. | Link: https://ausschreibungsradar.com/ausschreibung/3e78c9ad-ef91-4637-8cbc-b049e50ce746/
URL:https://ausschreibungsradar.com/ausschreibung/3e78c9ad-ef91-4637-8cbc-b049e50ce746/
END:VEVENT
BEGIN:VEVENT
UID:31679687cead8c12@ausschreibungsradar.com
DTSTAMP:20260424T115252Z
DTSTART;VALUE=DATE:20250722
DTEND;VALUE=DATE:20250722
SUMMARY:Vorinformation — Vergabe von Personenbeförderungsleistungen im Linienverkehr 
DESCRIPTION:Phase: Vorinformation | Beschreibung: Vorab-Ankündigung der Vergabestelle — keine verbindliche Ausschreibung. | Link: https://ausschreibungsradar.com/ausschreibung/e169fa59-bf49-4511-8bad-a8898a63e505
URL:https://ausschreibungsradar.com/ausschreibung/e169fa59-bf49-4511-8bad-a8898a63e505/
END:VEVENT
BEGIN:VEVENT
UID:67ed6ced92a0c51f@ausschreibungsradar.com
DTSTAMP:20260424T115252Z
DTSTART;VALUE=DATE:20250724
DTEND;VALUE=DATE:20250724
SUMMARY:Ausschreibung — Vergabe von Personenbeförderungsleistungen im Linienverkehr 
DESCRIPTION:Phase: Ausschreibung | Beschreibung: Offizielle Ausschreibung mit Bieterfrist. | Link: https://ausschreibungsradar.com/ausschreibung/9f7472c1-244e-432a-9073-5b1cfd199cad/
URL:https://ausschreibungsradar.com/ausschreibung/9f7472c1-244e-432a-9073-5b1cfd199cad/
END:VEVENT
BEGIN:VEVENT
UID:b07edb539fc24ffd@ausschreibungsradar.com
DTSTAMP:20260424T115252Z
DTSTART;VALUE=DATE:20251023
DTEND;VALUE=DATE:20251023
SUMMARY:Vergabeergebnis — Vergabe von Personenbeförderungsleistungen im Linienverkehr 
DESCRIPTION:Phase: Vergabeergebnis | Beschreibung: Auftrag wurde zugeschlagen | Link: https://ausschreibungsradar.com/ausschreibung/e67e3659-7ffc-40bc-885f-4bbc96a5b42b/
URL:https://ausschreibungsradar.com/ausschreibung/e67e3659-7ffc-40bc-885f-4bbc96a5b42b/
END:VEVENT
END:VCALENDAR
