BEGIN:VCALENDAR
VERSION:2.0
PRODID:-//AusschreibungsRadar//Timeline//DE
CALSCALE:GREGORIAN
METHOD:PUBLISH
X-WR-CALNAME:Projekt Forschungsprojekt - DZSF - Öffentliche Netzinfrastrukturen u
X-WR-TIMEZONE:Europe/Berlin
BEGIN:VEVENT
UID:f158e362b77b95be@ausschreibungsradar.com
DTSTAMP:20260424T081508Z
DTSTART;VALUE=DATE:20251119
DTEND;VALUE=DATE:20251119
SUMMARY:Angebotsfrist — Forschungsprojekt - DZSF - Öffentliche Netzinfrastrukturen u
DESCRIPTION:Phase: Ausschreibung | Beschreibung: Angebote werden eingeholt | Link: https://ausschreibungsradar.com/ausschreibung/6d46bc5b-a2e9-4622-8b0e-4b640b5208df/ | Geschätzter Wert: 643872 €
URL:https://ausschreibungsradar.com/ausschreibung/6d46bc5b-a2e9-4622-8b0e-4b640b5208df/
END:VEVENT
BEGIN:VEVENT
UID:98ce7334f8c6ce9c@ausschreibungsradar.com
DTSTAMP:20260424T081508Z
DTSTART;VALUE=DATE:20260223
DTEND;VALUE=DATE:20260223
SUMMARY:Vergabeergebnis — Forschungsprojekt - DZSF - Öffentliche Netzinfrastrukturen u
DESCRIPTION:Phase: Vergabeergebnis | Beschreibung: Auftrag wurde zugeschlagen | Link: https://ausschreibungsradar.com/ausschreibung/bdc2b4d8-6483-42c4-92a5-e09813dce2d6/ | Auftragnehmer: DB Systel GmbH | Geschätz
URL:https://ausschreibungsradar.com/ausschreibung/bdc2b4d8-6483-42c4-92a5-e09813dce2d6/
END:VEVENT
END:VCALENDAR
