BEGIN:VCALENDAR
VERSION:2.0
PRODID:-//AusschreibungsRadar//Timeline//DE
CALSCALE:GREGORIAN
METHOD:PUBLISH
X-WR-CALNAME:Projekt Trockenbau- und Malerarbeiten BA 2
X-WR-TIMEZONE:Europe/Berlin
BEGIN:VEVENT
UID:4c8d377e8039cc0d@ausschreibungsradar.com
DTSTAMP:20260424T160127Z
DTSTART;VALUE=DATE:20250910
DTEND;VALUE=DATE:20250910
SUMMARY:Angebotsfrist — Trockenbau- und Malerarbeiten BA 2
DESCRIPTION:Phase: Ausschreibung | Beschreibung: Angebote werden eingeholt | Link: https://ausschreibungsradar.com/ausschreibung/6d7442c2-601e-4e0a-9792-d5585f319ceb/
URL:https://ausschreibungsradar.com/ausschreibung/6d7442c2-601e-4e0a-9792-d5585f319ceb/
END:VEVENT
END:VCALENDAR
