BEGIN:VCALENDAR
VERSION:2.0
PRODID:-//AusschreibungsRadar//Timeline//DE
CALSCALE:GREGORIAN
METHOD:PUBLISH
X-WR-CALNAME:Projekt Chemnitzer Modell, Stufe 4 - Ausbau Chemnitz - Limbach-Oberf
X-WR-TIMEZONE:Europe/Berlin
BEGIN:VEVENT
UID:c7319c2bf719c402@ausschreibungsradar.com
DTSTAMP:20260426T001321Z
DTSTART;VALUE=DATE:20251201
DTEND;VALUE=DATE:20251201
SUMMARY:Angebotsfrist — Chemnitzer Modell\, Stufe 4 - Ausbau Chemnitz - Limbach-Oberf
DESCRIPTION:Phase: Ausschreibung | Beschreibung: Angebote werden eingeholt | Link: https://ausschreibungsradar.com/ausschreibung/6e847f02-3a06-4702-8879-496b876b2f4f/
URL:https://ausschreibungsradar.com/ausschreibung/6e847f02-3a06-4702-8879-496b876b2f4f/
END:VEVENT
BEGIN:VEVENT
UID:eae6107cd327ea31@ausschreibungsradar.com
DTSTAMP:20260426T001321Z
DTSTART;VALUE=DATE:20251022
DTEND;VALUE=DATE:20251022
SUMMARY:Ausschreibung — Chemnitzer Modell\, Stufe 4 - Ausbau Chemnitz - Limbach-Oberf
DESCRIPTION:Phase: Ausschreibung | Beschreibung: Offizielle Ausschreibung mit Bieterfrist. | Link: https://ausschreibungsradar.com/ausschreibung/cc2a2378-d6de-41c1-aff3-10181751c221/
URL:https://ausschreibungsradar.com/ausschreibung/cc2a2378-d6de-41c1-aff3-10181751c221/
END:VEVENT
BEGIN:VEVENT
UID:03e25509688218da@ausschreibungsradar.com
DTSTAMP:20260426T001321Z
DTSTART;VALUE=DATE:20251028
DTEND;VALUE=DATE:20251028
SUMMARY:Ausschreibung — Chemnitzer Modell\, Stufe 4 - Ausbau Chemnitz - Limbach-Oberf
DESCRIPTION:Phase: Ausschreibung | Beschreibung: Offizielle Ausschreibung mit Bieterfrist. | Link: https://ausschreibungsradar.com/ausschreibung/24581232/
URL:https://ausschreibungsradar.com/ausschreibung/24581232/
END:VEVENT
BEGIN:VEVENT
UID:c9391886962ee748@ausschreibungsradar.com
DTSTAMP:20260426T001321Z
DTSTART;VALUE=DATE:20251115
DTEND;VALUE=DATE:20251115
SUMMARY:Zuschlag — Chemnitzer Modell\, Stufe 4 - Ausbau Chemnitz - Limbach-Oberf
DESCRIPTION:Phase: Zuschlag | Beschreibung: Vergabeergebnis — Auftrag wurde erteilt oder Verfahren beendet. | Link: https://ausschreibungsradar.com/ausschreibung/80bcc21d-20b5-48c2-a70d-e8d9c785d2bf/
URL:https://ausschreibungsradar.com/ausschreibung/80bcc21d-20b5-48c2-a70d-e8d9c785d2bf/
END:VEVENT
BEGIN:VEVENT
UID:b7ebe5ab847625c9@ausschreibungsradar.com
DTSTAMP:20260426T001321Z
DTSTART;VALUE=DATE:20260114
DTEND;VALUE=DATE:20260114
SUMMARY:Vergabeergebnis — Chemnitzer Modell\, Stufe 4 - Ausbau Chemnitz - Limbach-Oberf
DESCRIPTION:Phase: Vergabeergebnis | Beschreibung: Auftrag wurde zugeschlagen | Link: https://ausschreibungsradar.com/ausschreibung/60ab4a10-df29-4bf1-b7a9-9c7380a6012f/
URL:https://ausschreibungsradar.com/ausschreibung/60ab4a10-df29-4bf1-b7a9-9c7380a6012f/
END:VEVENT
END:VCALENDAR
