BEGIN:VCALENDAR
VERSION:2.0
PRODID:-//AusschreibungsRadar//Timeline//DE
CALSCALE:GREGORIAN
METHOD:PUBLISH
X-WR-CALNAME:Projekt MPI für Intelligente Systeme, Neubau Cyber Valley: Elektroin
X-WR-TIMEZONE:Europe/Berlin
BEGIN:VEVENT
UID:be0bb3b9b0a15492@ausschreibungsradar.com
DTSTAMP:20260425T151712Z
DTSTART;VALUE=DATE:20260309
DTEND;VALUE=DATE:20260309
SUMMARY:Zuschlag — MPI für Intelligente Systeme\, Neubau Cyber Valley: Elektroin
DESCRIPTION:Phase: Zuschlag | Beschreibung: Vergabeergebnis — Auftrag wurde erteilt oder Verfahren beendet. | Link: https://ausschreibungsradar.com/ausschreibung/15d4f02f-9eef-4bd6-9d0c-6e2e50224498/
URL:https://ausschreibungsradar.com/ausschreibung/15d4f02f-9eef-4bd6-9d0c-6e2e50224498/
END:VEVENT
BEGIN:VEVENT
UID:82145cf38c40eba2@ausschreibungsradar.com
DTSTAMP:20260425T151712Z
DTSTART;VALUE=DATE:20260423
DTEND;VALUE=DATE:20260423
SUMMARY:Angebotsfrist — MPI für Intelligente Systeme\, Neubau Cyber Valley: Elektroin
DESCRIPTION:Phase: Ausschreibung | Beschreibung: Angebote werden eingeholt | Link: https://ausschreibungsradar.com/ausschreibung/6ed54e89-1be6-4746-8629-77d3eb98dbfd/ | Geschätzter Wert: 1 €
URL:https://ausschreibungsradar.com/ausschreibung/6ed54e89-1be6-4746-8629-77d3eb98dbfd/
END:VEVENT
END:VCALENDAR
