BEGIN:VCALENDAR
VERSION:2.0
PRODID:-//AusschreibungsRadar//Timeline//DE
CALSCALE:GREGORIAN
METHOD:PUBLISH
X-WR-CALNAME:Projekt zentrale IT-Services und Infrastrukturaufgaben für die Kultu
X-WR-TIMEZONE:Europe/Berlin
BEGIN:VEVENT
UID:7f65c149a15c78d6@ausschreibungsradar.com
DTSTAMP:20260425T200717Z
DTSTART;VALUE=DATE:20260112
DTEND;VALUE=DATE:20260112
SUMMARY:Angebotsfrist — zentrale IT-Services und Infrastrukturaufgaben für die Kultu
DESCRIPTION:Phase: Ausschreibung | Beschreibung: Angebote werden eingeholt | Link: https://ausschreibungsradar.com/ausschreibung/6ee65825-5a1e-450b-a41e-416fa8b382ba/
URL:https://ausschreibungsradar.com/ausschreibung/6ee65825-5a1e-450b-a41e-416fa8b382ba/
END:VEVENT
BEGIN:VEVENT
UID:0f8ca9c64fee568c@ausschreibungsradar.com
DTSTAMP:20260425T200717Z
DTSTART;VALUE=DATE:20251121
DTEND;VALUE=DATE:20251121
SUMMARY:Ausschreibung — zentrale IT-Services und Infrastrukturaufgaben für die Kultu
DESCRIPTION:Phase: Ausschreibung | Beschreibung: Offizielle Ausschreibung mit Bieterfrist. | Link: https://ausschreibungsradar.com/ausschreibung/cf725a76-24e5-4678-8025-1f1c85e39fb2/
URL:https://ausschreibungsradar.com/ausschreibung/cf725a76-24e5-4678-8025-1f1c85e39fb2/
END:VEVENT
END:VCALENDAR
