BEGIN:VCALENDAR
VERSION:2.0
PRODID:-//AusschreibungsRadar//Timeline//DE
CALSCALE:GREGORIAN
METHOD:PUBLISH
X-WR-CALNAME:Projekt Erweiterung und Umbau Friedrich-Silcher-Schule in Renningen 
X-WR-TIMEZONE:Europe/Berlin
BEGIN:VEVENT
UID:28be9b5554855f6e@ausschreibungsradar.com
DTSTAMP:20260425T150335Z
DTSTART;VALUE=DATE:20250519
DTEND;VALUE=DATE:20250519
SUMMARY:Angebotsfrist — Erweiterung und Umbau Friedrich-Silcher-Schule in Renningen 
DESCRIPTION:Phase: Ausschreibung | Beschreibung: Angebote werden eingeholt | Link: https://ausschreibungsradar.com/ausschreibung/794146de-ddf0-4269-a389-b4a49a0bff77/
URL:https://ausschreibungsradar.com/ausschreibung/794146de-ddf0-4269-a389-b4a49a0bff77/
END:VEVENT
BEGIN:VEVENT
UID:e0404065a42538f1@ausschreibungsradar.com
DTSTAMP:20260425T150335Z
DTSTART;VALUE=DATE:20250522
DTEND;VALUE=DATE:20250522
SUMMARY:Zuschlag — Erweiterung und Umbau Friedrich-Silcher-Schule in Renningen 
DESCRIPTION:Phase: Zuschlag | Beschreibung: Vergabeergebnis — Auftrag wurde erteilt oder Verfahren beendet. | Link: https://ausschreibungsradar.com/ausschreibung/51bc5ae0-0ff0-413d-a4e2-f8e3a091c3b1/
URL:https://ausschreibungsradar.com/ausschreibung/51bc5ae0-0ff0-413d-a4e2-f8e3a091c3b1/
END:VEVENT
BEGIN:VEVENT
UID:ffa8d3b1f8474795@ausschreibungsradar.com
DTSTAMP:20260425T150335Z
DTSTART;VALUE=DATE:20250528
DTEND;VALUE=DATE:20250528
SUMMARY:Vergabeergebnis — Erweiterung und Umbau Friedrich-Silcher-Schule in Renningen 
DESCRIPTION:Phase: Vergabeergebnis | Beschreibung: Bedarf hat sich geändert | Link: https://ausschreibungsradar.com/ausschreibung/6f09515a-4bae-4111-bf7a-a652411edffb/
URL:https://ausschreibungsradar.com/ausschreibung/6f09515a-4bae-4111-bf7a-a652411edffb/
END:VEVENT
END:VCALENDAR
