BEGIN:VCALENDAR
VERSION:2.0
PRODID:-//AusschreibungsRadar//Timeline//DE
CALSCALE:GREGORIAN
METHOD:PUBLISH
X-WR-CALNAME:Projekt Straßen-, Kanalbau und Versorgungsleitungen -  Hessenweg - R
X-WR-TIMEZONE:Europe/Berlin
BEGIN:VEVENT
UID:611cd28a9ff10131@ausschreibungsradar.com
DTSTAMP:20260424T105858Z
DTSTART;VALUE=DATE:20260119
DTEND;VALUE=DATE:20260119
SUMMARY:Angebotsfrist — Straßen-\, Kanalbau und Versorgungsleitungen -  Hessenweg - R
DESCRIPTION:Phase: Ausschreibung | Beschreibung: Angebote werden eingeholt | Link: https://ausschreibungsradar.com/ausschreibung/6f71981f-7fcd-404b-b38a-b4b31b17e17c/
URL:https://ausschreibungsradar.com/ausschreibung/6f71981f-7fcd-404b-b38a-b4b31b17e17c/
END:VEVENT
BEGIN:VEVENT
UID:4180d9957732b351@ausschreibungsradar.com
DTSTAMP:20260424T105858Z
DTSTART;VALUE=DATE:20260303
DTEND;VALUE=DATE:20260303
SUMMARY:Vergabeergebnis — Straßen-\, Kanalbau und Versorgungsleitungen -  Hessenweg - R
DESCRIPTION:Phase: Vergabeergebnis | Beschreibung: Auftrag wurde zugeschlagen | Link: https://ausschreibungsradar.com/ausschreibung/ced58d15-22c8-4e31-b5ec-6896bc9346c7/
URL:https://ausschreibungsradar.com/ausschreibung/ced58d15-22c8-4e31-b5ec-6896bc9346c7/
END:VEVENT
END:VCALENDAR
