BEGIN:VCALENDAR
VERSION:2.0
PRODID:-//AusschreibungsRadar//Timeline//DE
CALSCALE:GREGORIAN
METHOD:PUBLISH
X-WR-CALNAME:Projekt AE - Teilneubau der Grundschule Groß Berkel - Tischlerarbeit
X-WR-TIMEZONE:Europe/Berlin
BEGIN:VEVENT
UID:12074ede26bb3f91@ausschreibungsradar.com
DTSTAMP:20260424T230450Z
DTSTART;VALUE=DATE:20251104
DTEND;VALUE=DATE:20251104
SUMMARY:Angebotsfrist — AE - Teilneubau der Grundschule Groß Berkel - Tischlerarbeit
DESCRIPTION:Phase: Ausschreibung | Beschreibung: Angebote werden eingeholt | Link: https://ausschreibungsradar.com/ausschreibung/9e19ad36-08a5-4c74-93eb-ee2f01afeb1f/
URL:https://ausschreibungsradar.com/ausschreibung/9e19ad36-08a5-4c74-93eb-ee2f01afeb1f/
END:VEVENT
BEGIN:VEVENT
UID:49b05462b10aebc2@ausschreibungsradar.com
DTSTAMP:20260424T230450Z
DTSTART;VALUE=DATE:20251126
DTEND;VALUE=DATE:20251126
SUMMARY:Zuschlag — AE - Teilneubau der Grundschule Groß Berkel - Tischlerarbeit
DESCRIPTION:Phase: Zuschlag | Beschreibung: Vergabeergebnis — Auftrag wurde erteilt oder Verfahren beendet. | Link: https://ausschreibungsradar.com/ausschreibung/db980b39-7ff5-4109-a79d-9697122b4fdc/
URL:https://ausschreibungsradar.com/ausschreibung/db980b39-7ff5-4109-a79d-9697122b4fdc/
END:VEVENT
BEGIN:VEVENT
UID:16e56560c04b45f0@ausschreibungsradar.com
DTSTAMP:20260424T230450Z
DTSTART;VALUE=DATE:20251128
DTEND;VALUE=DATE:20251128
SUMMARY:Ausschreibung — AE - Teilneubau der Grundschule Groß Berkel - Tischlerarbeit
DESCRIPTION:Phase: Ausschreibung | Beschreibung: Offizielle Ausschreibung mit Bieterfrist. | Link: https://ausschreibungsradar.com/ausschreibung/aef7dc63-15b4-46a6-b4e7-cf030fca52e5/
URL:https://ausschreibungsradar.com/ausschreibung/aef7dc63-15b4-46a6-b4e7-cf030fca52e5/
END:VEVENT
BEGIN:VEVENT
UID:a845df3de9eae5bf@ausschreibungsradar.com
DTSTAMP:20260424T230450Z
DTSTART;VALUE=DATE:20251210
DTEND;VALUE=DATE:20251210
SUMMARY:Vergabeergebnis — AE - Teilneubau der Grundschule Groß Berkel - Tischlerarbeit
DESCRIPTION:Phase: Vergabeergebnis | Beschreibung: Auftrag wurde zugeschlagen | Link: https://ausschreibungsradar.com/ausschreibung/6fbbfabc-61ce-4a0a-a03b-07d610c046e7/
URL:https://ausschreibungsradar.com/ausschreibung/6fbbfabc-61ce-4a0a-a03b-07d610c046e7/
END:VEVENT
END:VCALENDAR
