BEGIN:VCALENDAR
VERSION:2.0
PRODID:-//AusschreibungsRadar//Timeline//DE
CALSCALE:GREGORIAN
METHOD:PUBLISH
X-WR-CALNAME:Projekt Los 2 - Abbruch / Rohbau
X-WR-TIMEZONE:Europe/Berlin
BEGIN:VEVENT
UID:56215e34041f2e53@ausschreibungsradar.com
DTSTAMP:20260425T151534Z
DTSTART;VALUE=DATE:20241111
DTEND;VALUE=DATE:20241111
SUMMARY:Angebotsfrist — Los 2 - Abbruch / Rohbau
DESCRIPTION:Phase: Ausschreibung | Beschreibung: Angebote werden eingeholt | Link: https://ausschreibungsradar.com/ausschreibung/0155d755-0d9b-4931-9d34-51a4ad9900ff/
URL:https://ausschreibungsradar.com/ausschreibung/0155d755-0d9b-4931-9d34-51a4ad9900ff/
END:VEVENT
BEGIN:VEVENT
UID:b551e048ce0473d7@ausschreibungsradar.com
DTSTAMP:20260425T151534Z
DTSTART;VALUE=DATE:20241010
DTEND;VALUE=DATE:20241010
SUMMARY:Ausschreibung — Los 2 - Abbruch / Rohbau
DESCRIPTION:Phase: Ausschreibung | Beschreibung: Offizielle Ausschreibung mit Bieterfrist. | Link: https://ausschreibungsradar.com/ausschreibung/f6e7f936-f363-409e-9520-f744c663dbed/
URL:https://ausschreibungsradar.com/ausschreibung/f6e7f936-f363-409e-9520-f744c663dbed/
END:VEVENT
BEGIN:VEVENT
UID:6bc0b0a92e6e2ba1@ausschreibungsradar.com
DTSTAMP:20260425T151534Z
DTSTART;VALUE=DATE:20241218
DTEND;VALUE=DATE:20241218
SUMMARY:Vergabeergebnis — Los 2 - Abbruch / Rohbau
DESCRIPTION:Phase: Vergabeergebnis | Beschreibung: Auftrag wurde zugeschlagen | Link: https://ausschreibungsradar.com/ausschreibung/6fe64e4b-8ee1-45a9-bf7e-2298f533ddb1/
URL:https://ausschreibungsradar.com/ausschreibung/6fe64e4b-8ee1-45a9-bf7e-2298f533ddb1/
END:VEVENT
END:VCALENDAR
