BEGIN:VCALENDAR
VERSION:2.0
PRODID:-//AusschreibungsRadar//Timeline//DE
CALSCALE:GREGORIAN
METHOD:PUBLISH
X-WR-CALNAME:Projekt Lieferung einer Zerkleinerungsanlage für den Fachbereich 56
X-WR-TIMEZONE:Europe/Berlin
BEGIN:VEVENT
UID:703f243ddad8399b@ausschreibungsradar.com
DTSTAMP:20260424T002711Z
DTSTART;VALUE=DATE:20250718
DTEND;VALUE=DATE:20250718
SUMMARY:Angebotsfrist — Lieferung einer Zerkleinerungsanlage für den Fachbereich 56
DESCRIPTION:Phase: Ausschreibung | Beschreibung: Angebote werden eingeholt | Link: https://ausschreibungsradar.com/ausschreibung/6fea7445-0ce5-4a21-9d28-252f987c14b2/
URL:https://ausschreibungsradar.com/ausschreibung/6fea7445-0ce5-4a21-9d28-252f987c14b2/
END:VEVENT
BEGIN:VEVENT
UID:aa0dcead3d5f09b8@ausschreibungsradar.com
DTSTAMP:20260424T002711Z
DTSTART;VALUE=DATE:20250826
DTEND;VALUE=DATE:20250826
SUMMARY:Vergabeergebnis — Lieferung einer Zerkleinerungsanlage für den Fachbereich 56
DESCRIPTION:Phase: Vergabeergebnis | Beschreibung: Auftrag wurde zugeschlagen | Link: https://ausschreibungsradar.com/ausschreibung/6a9a5cbc-aacc-4350-a581-987ed6608af5/ | Auftragnehmer: Husmann GmbH Maschinenfab
URL:https://ausschreibungsradar.com/ausschreibung/6a9a5cbc-aacc-4350-a581-987ed6608af5/
END:VEVENT
END:VCALENDAR
