BEGIN:VCALENDAR
VERSION:2.0
PRODID:-//AusschreibungsRadar//Timeline//DE
CALSCALE:GREGORIAN
METHOD:PUBLISH
X-WR-CALNAME:Projekt Beschaffung von 2 Hilfeleistungslöschfahrzeugen Typ HLF 20
X-WR-TIMEZONE:Europe/Berlin
BEGIN:VEVENT
UID:cab25bfd7afa5ab8@ausschreibungsradar.com
DTSTAMP:20260424T050020Z
DTSTART;VALUE=DATE:20260127
DTEND;VALUE=DATE:20260127
SUMMARY:Angebotsfrist — Beschaffung von 2 Hilfeleistungslöschfahrzeugen Typ HLF 20
DESCRIPTION:Phase: Ausschreibung | Beschreibung: Angebote werden eingeholt | Link: https://ausschreibungsradar.com/ausschreibung/70486cd0-a3b7-4829-aa92-e9388cd98240/ | Geschätzter Wert: 2200000 €
URL:https://ausschreibungsradar.com/ausschreibung/70486cd0-a3b7-4829-aa92-e9388cd98240/
END:VEVENT
BEGIN:VEVENT
UID:451c6b70a01fdc24@ausschreibungsradar.com
DTSTAMP:20260424T050020Z
DTSTART;VALUE=DATE:20251209
DTEND;VALUE=DATE:20251209
SUMMARY:Ausschreibung — Beschaffung von 2 Hilfeleistungslöschfahrzeugen Typ HLF 20
DESCRIPTION:Phase: Ausschreibung | Beschreibung: Offizielle Ausschreibung mit Bieterfrist. | Link: https://ausschreibungsradar.com/ausschreibung/d0725b45-5d9d-4af0-a8c3-06401d7ce490/
URL:https://ausschreibungsradar.com/ausschreibung/d0725b45-5d9d-4af0-a8c3-06401d7ce490/
END:VEVENT
BEGIN:VEVENT
UID:3081e0a692d99e58@ausschreibungsradar.com
DTSTAMP:20260424T050020Z
DTSTART;VALUE=DATE:20260305
DTEND;VALUE=DATE:20260305
SUMMARY:Vergabeergebnis — Beschaffung von 2 Hilfeleistungslöschfahrzeugen Typ HLF 20
DESCRIPTION:Phase: Vergabeergebnis | Beschreibung: Auftrag wurde zugeschlagen | Link: https://ausschreibungsradar.com/ausschreibung/35023f6d-3092-4eef-9a0d-15b4347b566a/ | Geschätzter Wert: 2200000 €
URL:https://ausschreibungsradar.com/ausschreibung/35023f6d-3092-4eef-9a0d-15b4347b566a/
END:VEVENT
END:VCALENDAR
