BEGIN:VCALENDAR
VERSION:2.0
PRODID:-//AusschreibungsRadar//Timeline//DE
CALSCALE:GREGORIAN
METHOD:PUBLISH
X-WR-CALNAME:Projekt Kita Waldshuter Zeile Berlin (Technische Ausrüstung II: ELT)
X-WR-TIMEZONE:Europe/Berlin
BEGIN:VEVENT
UID:b154556428f3832e@ausschreibungsradar.com
DTSTAMP:20260424T074913Z
DTSTART;VALUE=DATE:20250513
DTEND;VALUE=DATE:20250513
SUMMARY:Ausschreibung — Kita Waldshuter Zeile Berlin (Technische Ausrüstung II: ELT)
DESCRIPTION:Phase: Ausschreibung | Beschreibung: Angebote werden eingeholt | Link: https://ausschreibungsradar.com/ausschreibung/7071b4ce-5a33-44f5-a04b-eefb71b99842/
URL:https://ausschreibungsradar.com/ausschreibung/7071b4ce-5a33-44f5-a04b-eefb71b99842/
END:VEVENT
BEGIN:VEVENT
UID:eb45ccd0b4b8c41f@ausschreibungsradar.com
DTSTAMP:20260424T074913Z
DTSTART;VALUE=DATE:20250513
DTEND;VALUE=DATE:20250513
SUMMARY:Ausschreibung — Kita Waldshuter Zeile Berlin (Technische Ausrüstung II: ELT)
DESCRIPTION:Phase: Ausschreibung | Beschreibung: Offizielle Ausschreibung mit Bieterfrist. | Link: https://ausschreibungsradar.com/ausschreibung/aa54184e-e25d-495b-844d-adce9ba06da9/
URL:https://ausschreibungsradar.com/ausschreibung/aa54184e-e25d-495b-844d-adce9ba06da9/
END:VEVENT
BEGIN:VEVENT
UID:2f991e807fc1d1fc@ausschreibungsradar.com
DTSTAMP:20260424T074913Z
DTSTART;VALUE=DATE:20250527
DTEND;VALUE=DATE:20250527
SUMMARY:Ausschreibung — Kita Waldshuter Zeile Berlin (Technische Ausrüstung II: ELT)
DESCRIPTION:Phase: Ausschreibung | Beschreibung: Offizielle Ausschreibung mit Bieterfrist. | Link: https://ausschreibungsradar.com/ausschreibung/b96f141d-1cd3-4e3d-b05a-c63600275cd4/
URL:https://ausschreibungsradar.com/ausschreibung/b96f141d-1cd3-4e3d-b05a-c63600275cd4/
END:VEVENT
BEGIN:VEVENT
UID:3ecf843baf221767@ausschreibungsradar.com
DTSTAMP:20260424T074913Z
DTSTART;VALUE=DATE:20250912
DTEND;VALUE=DATE:20250912
SUMMARY:Vergabeergebnis — Kita Waldshuter Zeile Berlin (Technische Ausrüstung II: ELT)
DESCRIPTION:Phase: Vergabeergebnis | Beschreibung: Auftrag wurde zugeschlagen | Link: https://ausschreibungsradar.com/ausschreibung/39487af8-799a-4502-ab15-8bdd35aaed09/
URL:https://ausschreibungsradar.com/ausschreibung/39487af8-799a-4502-ab15-8bdd35aaed09/
END:VEVENT
END:VCALENDAR
