BEGIN:VCALENDAR
VERSION:2.0
PRODID:-//AusschreibungsRadar//Timeline//DE
CALSCALE:GREGORIAN
METHOD:PUBLISH
X-WR-CALNAME:Projekt Neubau Campus Bühl, Mensa, Schülercafé und Klassenräume, Bra
X-WR-TIMEZONE:Europe/Berlin
BEGIN:VEVENT
UID:e00e039644b854a3@ausschreibungsradar.com
DTSTAMP:20260424T095722Z
DTSTART;VALUE=DATE:20240827
DTEND;VALUE=DATE:20240827
SUMMARY:Angebotsfrist — Neubau Campus Bühl\, Mensa\, Schülercafé und Klassenräume\, Bra
DESCRIPTION:Phase: Ausschreibung | Beschreibung: Angebote werden eingeholt | Link: https://ausschreibungsradar.com/ausschreibung/0c05c010-c13e-40c8-b792-274ed8ecc83c/
URL:https://ausschreibungsradar.com/ausschreibung/0c05c010-c13e-40c8-b792-274ed8ecc83c/
END:VEVENT
BEGIN:VEVENT
UID:2bd3a8cf7305aeb9@ausschreibungsradar.com
DTSTAMP:20260424T095722Z
DTSTART;VALUE=DATE:20241026
DTEND;VALUE=DATE:20241026
SUMMARY:Vergabeergebnis — Neubau Campus Bühl\, Mensa\, Schülercafé und Klassenräume\, Bra
DESCRIPTION:Phase: Vergabeergebnis | Beschreibung: Auftrag wurde zugeschlagen | Link: https://ausschreibungsradar.com/ausschreibung/709c149f-d054-4f9e-82b7-b057cef4d095/
URL:https://ausschreibungsradar.com/ausschreibung/709c149f-d054-4f9e-82b7-b057cef4d095/
END:VEVENT
END:VCALENDAR
