BEGIN:VCALENDAR
VERSION:2.0
PRODID:-//AusschreibungsRadar//Timeline//DE
CALSCALE:GREGORIAN
METHOD:PUBLISH
X-WR-CALNAME:Projekt EU-weite Ausschreibung der Lieferung von Abfallbehältern für
X-WR-TIMEZONE:Europe/Berlin
BEGIN:VEVENT
UID:55cce1679eb16c28@ausschreibungsradar.com
DTSTAMP:20260425T193906Z
DTSTART;VALUE=DATE:20240916
DTEND;VALUE=DATE:20240916
SUMMARY:Angebotsfrist — EU-weite Ausschreibung der Lieferung von Abfallbehältern für
DESCRIPTION:Phase: Ausschreibung | Beschreibung: Angebote werden eingeholt | Link: https://ausschreibungsradar.com/ausschreibung/88b99f25-4bbf-4342-b03b-4b8dfebb00e3/
URL:https://ausschreibungsradar.com/ausschreibung/88b99f25-4bbf-4342-b03b-4b8dfebb00e3/
END:VEVENT
BEGIN:VEVENT
UID:9e201f6508b7dd91@ausschreibungsradar.com
DTSTAMP:20260425T193906Z
DTSTART;VALUE=DATE:20241225
DTEND;VALUE=DATE:20241225
SUMMARY:Vergabeergebnis — EU-weite Ausschreibung der Lieferung von Abfallbehältern für
DESCRIPTION:Phase: Vergabeergebnis | Beschreibung: Auftrag wurde zugeschlagen | Link: https://ausschreibungsradar.com/ausschreibung/70aca2e4-53e7-45cb-a1e7-50f777ca0e8f/ | Auftragnehmer: SULO Deutschland GmbH
URL:https://ausschreibungsradar.com/ausschreibung/70aca2e4-53e7-45cb-a1e7-50f777ca0e8f/
END:VEVENT
END:VCALENDAR
