BEGIN:VCALENDAR
VERSION:2.0
PRODID:-//AusschreibungsRadar//Timeline//DE
CALSCALE:GREGORIAN
METHOD:PUBLISH
X-WR-CALNAME:Projekt Los 4 - Dachdeckerarbeiten
X-WR-TIMEZONE:Europe/Berlin
BEGIN:VEVENT
UID:aedbcde611799424@ausschreibungsradar.com
DTSTAMP:20260424T050010Z
DTSTART;VALUE=DATE:20250206
DTEND;VALUE=DATE:20250206
SUMMARY:Ausschreibung — Los 4 - Dachdeckerarbeiten
DESCRIPTION:Phase: Ausschreibung | Beschreibung: Angebote werden eingeholt | Link: https://ausschreibungsradar.com/ausschreibung/e1385f58-5213-4cd0-97e0-493d13b201e0/
URL:https://ausschreibungsradar.com/ausschreibung/e1385f58-5213-4cd0-97e0-493d13b201e0/
END:VEVENT
BEGIN:VEVENT
UID:c141896650500d8f@ausschreibungsradar.com
DTSTAMP:20260424T050010Z
DTSTART;VALUE=DATE:20250507
DTEND;VALUE=DATE:20250507
SUMMARY:Vergabeergebnis — Los 4 - Dachdeckerarbeiten
DESCRIPTION:Phase: Vergabeergebnis | Beschreibung: Auftrag wurde zugeschlagen | Link: https://ausschreibungsradar.com/ausschreibung/70e0cf30-a007-48f9-8ee1-e2c2b77973bc/
URL:https://ausschreibungsradar.com/ausschreibung/70e0cf30-a007-48f9-8ee1-e2c2b77973bc/
END:VEVENT
END:VCALENDAR
