BEGIN:VCALENDAR
VERSION:2.0
PRODID:-//AusschreibungsRadar//Timeline//DE
CALSCALE:GREGORIAN
METHOD:PUBLISH
X-WR-CALNAME:Projekt GAZ-Umnutzung Autohaus zum Feuerwehrtechnischen Zentrum und 
X-WR-TIMEZONE:Europe/Berlin
BEGIN:VEVENT
UID:177f9299285f30bf@ausschreibungsradar.com
DTSTAMP:20260425T180843Z
DTSTART;VALUE=DATE:20240829
DTEND;VALUE=DATE:20240829
SUMMARY:Angebotsfrist — GAZ-Umnutzung Autohaus zum Feuerwehrtechnischen Zentrum und 
DESCRIPTION:Phase: Ausschreibung | Beschreibung: Angebote werden eingeholt | Link: https://ausschreibungsradar.com/ausschreibung/b401eda5-351c-41f0-ac5c-4dd13e39a120/
URL:https://ausschreibungsradar.com/ausschreibung/b401eda5-351c-41f0-ac5c-4dd13e39a120/
END:VEVENT
BEGIN:VEVENT
UID:ac4f3f6292b40750@ausschreibungsradar.com
DTSTAMP:20260425T180843Z
DTSTART;VALUE=DATE:20241111
DTEND;VALUE=DATE:20241111
SUMMARY:Vergabeergebnis — GAZ-Umnutzung Autohaus zum Feuerwehrtechnischen Zentrum und 
DESCRIPTION:Phase: Vergabeergebnis | Beschreibung: Auftrag wurde zugeschlagen | Link: https://ausschreibungsradar.com/ausschreibung/711ddb5b-bef7-4c68-a8f0-05c9e69e3839/ | Auftragnehmer: Geiselquelle GmbH
URL:https://ausschreibungsradar.com/ausschreibung/711ddb5b-bef7-4c68-a8f0-05c9e69e3839/
END:VEVENT
BEGIN:VEVENT
UID:e3d5e1f00865238b@ausschreibungsradar.com
DTSTAMP:20260425T180843Z
DTSTART;VALUE=DATE:20241127
DTEND;VALUE=DATE:20241127
SUMMARY:Zuschlag — GAZ-Umnutzung Autohaus zum Feuerwehrtechnischen Zentrum und 
DESCRIPTION:Phase: Zuschlag | Beschreibung: Vergabeergebnis — Auftrag wurde erteilt oder Verfahren beendet. | Link: https://ausschreibungsradar.com/ausschreibung/a8d2e40e-9723-4d75-9e00-b52a580fd789/
URL:https://ausschreibungsradar.com/ausschreibung/a8d2e40e-9723-4d75-9e00-b52a580fd789/
END:VEVENT
BEGIN:VEVENT
UID:b152ba245ba15c73@ausschreibungsradar.com
DTSTAMP:20260425T180843Z
DTSTART;VALUE=DATE:20241204
DTEND;VALUE=DATE:20241204
SUMMARY:Ausschreibung — GAZ-Umnutzung Autohaus zum Feuerwehrtechnischen Zentrum und 
DESCRIPTION:Phase: Ausschreibung | Beschreibung: Offizielle Ausschreibung mit Bieterfrist. | Link: https://ausschreibungsradar.com/ausschreibung/2078368b-6d2d-48c7-8cce-24e217c46da8/
URL:https://ausschreibungsradar.com/ausschreibung/2078368b-6d2d-48c7-8cce-24e217c46da8/
END:VEVENT
END:VCALENDAR
