BEGIN:VCALENDAR
VERSION:2.0
PRODID:-//AusschreibungsRadar//Timeline//DE
CALSCALE:GREGORIAN
METHOD:PUBLISH
X-WR-CALNAME:Projekt NLS Notleitstelle Nürnberg Projektsteuerungsleistungen und b
X-WR-TIMEZONE:Europe/Berlin
BEGIN:VEVENT
UID:1b8728cf3532ead0@ausschreibungsradar.com
DTSTAMP:20260425T023826Z
DTSTART;VALUE=DATE:20251030
DTEND;VALUE=DATE:20251030
SUMMARY:Ausschreibung — NLS Notleitstelle Nürnberg Projektsteuerungsleistungen und b
DESCRIPTION:Phase: Ausschreibung | Beschreibung: Angebote werden eingeholt | Link: https://ausschreibungsradar.com/ausschreibung/248ce068-5939-4988-9b16-2149e2f86bd4/
URL:https://ausschreibungsradar.com/ausschreibung/248ce068-5939-4988-9b16-2149e2f86bd4/
END:VEVENT
BEGIN:VEVENT
UID:fc61f7af2aac7979@ausschreibungsradar.com
DTSTAMP:20260425T023826Z
DTSTART;VALUE=DATE:20260323
DTEND;VALUE=DATE:20260323
SUMMARY:Vergabeergebnis — NLS Notleitstelle Nürnberg Projektsteuerungsleistungen und b
DESCRIPTION:Phase: Vergabeergebnis | Beschreibung: Auftrag wurde zugeschlagen | Link: https://ausschreibungsradar.com/ausschreibung/712bfabf-ceb1-4c3b-bd19-df7f88415694/
URL:https://ausschreibungsradar.com/ausschreibung/712bfabf-ceb1-4c3b-bd19-df7f88415694/
END:VEVENT
END:VCALENDAR
