BEGIN:VCALENDAR
VERSION:2.0
PRODID:-//AusschreibungsRadar//Timeline//DE
CALSCALE:GREGORIAN
METHOD:PUBLISH
X-WR-CALNAME:Projekt Sanierung der Ruppertshalle in Ruppertsweiler
X-WR-TIMEZONE:Europe/Berlin
BEGIN:VEVENT
UID:fd04091211011b35@ausschreibungsradar.com
DTSTAMP:20260424T134942Z
DTSTART;VALUE=DATE:20240524
DTEND;VALUE=DATE:20240524
SUMMARY:Ausschreibung — Sanierung der Ruppertshalle in Ruppertsweiler
DESCRIPTION:Phase: Ausschreibung | Beschreibung: Offizielle Ausschreibung mit Bieterfrist. | Link: https://ausschreibungsradar.com/ausschreibung/55b00ebd-1337-41fc-a175-50376147ba0f/
URL:https://ausschreibungsradar.com/ausschreibung/55b00ebd-1337-41fc-a175-50376147ba0f/
END:VEVENT
BEGIN:VEVENT
UID:3cabd62b23679e94@ausschreibungsradar.com
DTSTAMP:20260424T134942Z
DTSTART;VALUE=DATE:20240825
DTEND;VALUE=DATE:20240825
SUMMARY:Ausschreibung — Sanierung der Ruppertshalle in Ruppertsweiler
DESCRIPTION:Phase: Ausschreibung | Beschreibung: Angebote werden eingeholt | Link: https://ausschreibungsradar.com/ausschreibung/714b6e30-a42f-46db-8917-a1059e931ebf/
URL:https://ausschreibungsradar.com/ausschreibung/714b6e30-a42f-46db-8917-a1059e931ebf/
END:VEVENT
BEGIN:VEVENT
UID:342d4da6b4eb4cfd@ausschreibungsradar.com
DTSTAMP:20260424T134942Z
DTSTART;VALUE=DATE:20260321
DTEND;VALUE=DATE:20260321
SUMMARY:Vergabeergebnis — Sanierung der Ruppertshalle in Ruppertsweiler
DESCRIPTION:Phase: Vergabeergebnis | Beschreibung: Auftrag wurde zugeschlagen | Link: https://ausschreibungsradar.com/ausschreibung/816678df-32ca-4181-b693-e626a106505d/
URL:https://ausschreibungsradar.com/ausschreibung/816678df-32ca-4181-b693-e626a106505d/
END:VEVENT
BEGIN:VEVENT
UID:290300f6ea256140@ausschreibungsradar.com
DTSTAMP:20260424T134942Z
DTSTART;VALUE=DATE:20260321
DTEND;VALUE=DATE:20260321
SUMMARY:Zuschlag — Sanierung der Ruppertshalle in Ruppertsweiler
DESCRIPTION:Phase: Zuschlag | Beschreibung: Vergabeergebnis — Auftrag wurde erteilt oder Verfahren beendet. | Link: https://ausschreibungsradar.com/ausschreibung/bafd9946-1758-4de4-8637-6fcd5f001333/
URL:https://ausschreibungsradar.com/ausschreibung/bafd9946-1758-4de4-8637-6fcd5f001333/
END:VEVENT
END:VCALENDAR
