BEGIN:VCALENDAR
VERSION:2.0
PRODID:-//AusschreibungsRadar//Timeline//DE
CALSCALE:GREGORIAN
METHOD:PUBLISH
X-WR-CALNAME:Projekt VE21 Innentüren 
X-WR-TIMEZONE:Europe/Berlin
BEGIN:VEVENT
UID:162e72d14691665a@ausschreibungsradar.com
DTSTAMP:20260424T174408Z
DTSTART;VALUE=DATE:20231219
DTEND;VALUE=DATE:20231219
SUMMARY:Angebotsfrist — VE21 Innentüren 
DESCRIPTION:Phase: Ausschreibung | Beschreibung: Angebote werden eingeholt | Link: https://ausschreibungsradar.com/ausschreibung/281ffd36-04ad-41c2-982f-34e90d6878f0/
URL:https://ausschreibungsradar.com/ausschreibung/281ffd36-04ad-41c2-982f-34e90d6878f0/
END:VEVENT
BEGIN:VEVENT
UID:dbfd1d7dfdaeab1c@ausschreibungsradar.com
DTSTAMP:20260424T174408Z
DTSTART;VALUE=DATE:20240207
DTEND;VALUE=DATE:20240207
SUMMARY:Vergabeergebnis — VE21 Innentüren 
DESCRIPTION:Phase: Vergabeergebnis | Beschreibung: Auftrag wurde zugeschlagen | Link: https://ausschreibungsradar.com/ausschreibung/7175a9d9-9f43-4cf7-bbd6-aa845b7ce555/
URL:https://ausschreibungsradar.com/ausschreibung/7175a9d9-9f43-4cf7-bbd6-aa845b7ce555/
END:VEVENT
END:VCALENDAR
