BEGIN:VCALENDAR
VERSION:2.0
PRODID:-//AusschreibungsRadar//Timeline//DE
CALSCALE:GREGORIAN
METHOD:PUBLISH
X-WR-CALNAME:Projekt Umsetzungsbegleitung eines operativen Ergebnisverbesserungsp
X-WR-TIMEZONE:Europe/Berlin
BEGIN:VEVENT
UID:c3be1871115113c9@ausschreibungsradar.com
DTSTAMP:20260424T101000Z
DTSTART;VALUE=DATE:20250808
DTEND;VALUE=DATE:20250808
SUMMARY:Ausschreibung — Umsetzungsbegleitung eines operativen Ergebnisverbesserungsp
DESCRIPTION:Phase: Ausschreibung | Beschreibung: Angebote werden eingeholt | Link: https://ausschreibungsradar.com/ausschreibung/4b40c2db-6192-4703-b21b-2f8af0fdcefa/
URL:https://ausschreibungsradar.com/ausschreibung/4b40c2db-6192-4703-b21b-2f8af0fdcefa/
END:VEVENT
BEGIN:VEVENT
UID:5ffbd9f5799e5b67@ausschreibungsradar.com
DTSTAMP:20260424T101000Z
DTSTART;VALUE=DATE:20260107
DTEND;VALUE=DATE:20260107
SUMMARY:Vergabeergebnis — Umsetzungsbegleitung eines operativen Ergebnisverbesserungsp
DESCRIPTION:Phase: Vergabeergebnis | Beschreibung: Auftrag wurde zugeschlagen | Link: https://ausschreibungsradar.com/ausschreibung/7189ea91-44d2-4adb-a092-9cab3b435ab0/ | Geschätzter Wert: 0 €
URL:https://ausschreibungsradar.com/ausschreibung/7189ea91-44d2-4adb-a092-9cab3b435ab0/
END:VEVENT
END:VCALENDAR
