BEGIN:VCALENDAR
VERSION:2.0
PRODID:-//AusschreibungsRadar//Timeline//DE
CALSCALE:GREGORIAN
METHOD:PUBLISH
X-WR-CALNAME:Projekt Treasury Management System - Modul Risikomanagement
X-WR-TIMEZONE:Europe/Berlin
BEGIN:VEVENT
UID:3c27e3159433c187@ausschreibungsradar.com
DTSTAMP:20260425T181522Z
DTSTART;VALUE=DATE:20250722
DTEND;VALUE=DATE:20250722
SUMMARY:Angebotsfrist — Treasury Management System - Modul Risikomanagement
DESCRIPTION:Phase: Ausschreibung | Beschreibung: Angebote werden eingeholt | Link: https://ausschreibungsradar.com/ausschreibung/72a331a9-c089-405a-8e8f-95a370ff4724/
URL:https://ausschreibungsradar.com/ausschreibung/72a331a9-c089-405a-8e8f-95a370ff4724/
END:VEVENT
BEGIN:VEVENT
UID:ffd56d38db208d14@ausschreibungsradar.com
DTSTAMP:20260425T181522Z
DTSTART;VALUE=DATE:20250731
DTEND;VALUE=DATE:20250731
SUMMARY:Vergabeergebnis — Treasury Management System - Modul Risikomanagement
DESCRIPTION:Phase: Vergabeergebnis | Beschreibung: Alle Angebote ausgeschlossen | Link: https://ausschreibungsradar.com/ausschreibung/906dc460-7d8e-4e8a-87c6-ec9ad8a9f257/
URL:https://ausschreibungsradar.com/ausschreibung/906dc460-7d8e-4e8a-87c6-ec9ad8a9f257/
END:VEVENT
END:VCALENDAR
