BEGIN:VCALENDAR
VERSION:2.0
PRODID:-//AusschreibungsRadar//Timeline//DE
CALSCALE:GREGORIAN
METHOD:PUBLISH
X-WR-CALNAME:Projekt Teilsanierung EG des Dorfgemeinschaftshauses in Blankenburg 
X-WR-TIMEZONE:Europe/Berlin
BEGIN:VEVENT
UID:eae6bc35e7355ee7@ausschreibungsradar.com
DTSTAMP:20260425T180842Z
DTSTART;VALUE=DATE:20230905
DTEND;VALUE=DATE:20230905
SUMMARY:Angebotsfrist — Teilsanierung EG des Dorfgemeinschaftshauses in Blankenburg 
DESCRIPTION:Phase: Ausschreibung | Beschreibung: Angebote werden eingeholt | Link: https://ausschreibungsradar.com/ausschreibung/73399220-4739-4f42-a53b-1b2b4e8ab2d3/
URL:https://ausschreibungsradar.com/ausschreibung/73399220-4739-4f42-a53b-1b2b4e8ab2d3/
END:VEVENT
BEGIN:VEVENT
UID:1c982f10a168db68@ausschreibungsradar.com
DTSTAMP:20260425T180842Z
DTSTART;VALUE=DATE:20230825
DTEND;VALUE=DATE:20230825
SUMMARY:Ausschreibung — Teilsanierung EG des Dorfgemeinschaftshauses in Blankenburg 
DESCRIPTION:Phase: Ausschreibung | Beschreibung: Offizielle Ausschreibung mit Bieterfrist. | Link: https://ausschreibungsradar.com/ausschreibung/14c44cb4-5dd4-4e8b-b8a3-5bd10b0f35a5/
URL:https://ausschreibungsradar.com/ausschreibung/14c44cb4-5dd4-4e8b-b8a3-5bd10b0f35a5/
END:VEVENT
END:VCALENDAR
