BEGIN:VCALENDAR
VERSION:2.0
PRODID:-//AusschreibungsRadar//Timeline//DE
CALSCALE:GREGORIAN
METHOD:PUBLISH
X-WR-CALNAME:Projekt TNW_HLS_Gemeinde Moosthenning_Neubau Kindertagesstätte in Un
X-WR-TIMEZONE:Europe/Berlin
BEGIN:VEVENT
UID:72ab6d37f67e2d28@ausschreibungsradar.com
DTSTAMP:20260425T163320Z
DTSTART;VALUE=DATE:20250313
DTEND;VALUE=DATE:20250313
SUMMARY:Ausschreibung — TNW_HLS_Gemeinde Moosthenning_Neubau Kindertagesstätte in Un
DESCRIPTION:Phase: Ausschreibung | Beschreibung: Angebote werden eingeholt | Link: https://ausschreibungsradar.com/ausschreibung/73fa4637-cd07-4abd-946a-7d0db9e37048/
URL:https://ausschreibungsradar.com/ausschreibung/73fa4637-cd07-4abd-946a-7d0db9e37048/
END:VEVENT
BEGIN:VEVENT
UID:77d78cf46de3cc43@ausschreibungsradar.com
DTSTAMP:20260425T163320Z
DTSTART;VALUE=DATE:20250313
DTEND;VALUE=DATE:20250313
SUMMARY:Ausschreibung — TNW_HLS_Gemeinde Moosthenning_Neubau Kindertagesstätte in Un
DESCRIPTION:Phase: Ausschreibung | Beschreibung: Offizielle Ausschreibung mit Bieterfrist. | Link: https://ausschreibungsradar.com/ausschreibung/27683b2e-7a2a-4d8d-a2ae-bd6f67e4b45c/
URL:https://ausschreibungsradar.com/ausschreibung/27683b2e-7a2a-4d8d-a2ae-bd6f67e4b45c/
END:VEVENT
BEGIN:VEVENT
UID:9ae4fe8ef32905f7@ausschreibungsradar.com
DTSTAMP:20260425T163320Z
DTSTART;VALUE=DATE:20250717
DTEND;VALUE=DATE:20250717
SUMMARY:Vergabeergebnis — TNW_HLS_Gemeinde Moosthenning_Neubau Kindertagesstätte in Un
DESCRIPTION:Phase: Vergabeergebnis | Beschreibung: Auftrag wurde zugeschlagen | Link: https://ausschreibungsradar.com/ausschreibung/6f9bd07b-cff2-4afc-b10b-089056114874/
URL:https://ausschreibungsradar.com/ausschreibung/6f9bd07b-cff2-4afc-b10b-089056114874/
END:VEVENT
END:VCALENDAR
