BEGIN:VCALENDAR
VERSION:2.0
PRODID:-//AusschreibungsRadar//Timeline//DE
CALSCALE:GREGORIAN
METHOD:PUBLISH
X-WR-CALNAME:Projekt RecknitzHallen Laage
X-WR-TIMEZONE:Europe/Berlin
BEGIN:VEVENT
UID:f5c60a7ad8c58c09@ausschreibungsradar.com
DTSTAMP:20260425T163946Z
DTSTART;VALUE=DATE:20250218
DTEND;VALUE=DATE:20250218
SUMMARY:Angebotsfrist — RecknitzHallen Laage
DESCRIPTION:Phase: Ausschreibung | Beschreibung: Angebote werden eingeholt | Link: https://ausschreibungsradar.com/ausschreibung/170afa37-03de-4ead-b2cd-527355cd2ec0/
URL:https://ausschreibungsradar.com/ausschreibung/170afa37-03de-4ead-b2cd-527355cd2ec0/
END:VEVENT
BEGIN:VEVENT
UID:25bfd8ac2856b7f5@ausschreibungsradar.com
DTSTAMP:20260425T163946Z
DTSTART;VALUE=DATE:20250411
DTEND;VALUE=DATE:20250411
SUMMARY:Vergabeergebnis — RecknitzHallen Laage
DESCRIPTION:Phase: Vergabeergebnis | Beschreibung: Auftrag wurde zugeschlagen | Link: https://ausschreibungsradar.com/ausschreibung/759d396c-0c7f-4bd9-96eb-c33b63475389/ | Auftragnehmer: Allesreinigung Waldemar S
URL:https://ausschreibungsradar.com/ausschreibung/759d396c-0c7f-4bd9-96eb-c33b63475389/
END:VEVENT
END:VCALENDAR
