BEGIN:VCALENDAR
VERSION:2.0
PRODID:-//AusschreibungsRadar//Timeline//DE
CALSCALE:GREGORIAN
METHOD:PUBLISH
X-WR-CALNAME:Projekt Bodenbelagsarbeiten RSS
X-WR-TIMEZONE:Europe/Berlin
BEGIN:VEVENT
UID:0820429fb949c9ef@ausschreibungsradar.com
DTSTAMP:20260424T054819Z
DTSTART;VALUE=DATE:20250911
DTEND;VALUE=DATE:20250911
SUMMARY:Angebotsfrist — Bodenbelagsarbeiten RSS
DESCRIPTION:Phase: Ausschreibung | Beschreibung: Angebote werden eingeholt | Link: https://ausschreibungsradar.com/ausschreibung/571fac98-46e0-412d-b9ca-727a17cc0f5e/
URL:https://ausschreibungsradar.com/ausschreibung/571fac98-46e0-412d-b9ca-727a17cc0f5e/
END:VEVENT
BEGIN:VEVENT
UID:b814efd4687c8c4d@ausschreibungsradar.com
DTSTAMP:20260424T054819Z
DTSTART;VALUE=DATE:20250729
DTEND;VALUE=DATE:20250729
SUMMARY:Ausschreibung — Bodenbelagsarbeiten RSS
DESCRIPTION:Phase: Ausschreibung | Beschreibung: Offizielle Ausschreibung mit Bieterfrist. | Link: https://ausschreibungsradar.com/ausschreibung/3c0b5c8e-1583-4112-8e10-cf2e97be1e05/
URL:https://ausschreibungsradar.com/ausschreibung/3c0b5c8e-1583-4112-8e10-cf2e97be1e05/
END:VEVENT
BEGIN:VEVENT
UID:b8b7f37ba1c4b88e@ausschreibungsradar.com
DTSTAMP:20260424T054819Z
DTSTART;VALUE=DATE:20251208
DTEND;VALUE=DATE:20251208
SUMMARY:Vergabeergebnis — Bodenbelagsarbeiten RSS
DESCRIPTION:Phase: Vergabeergebnis | Beschreibung: Auftrag wurde zugeschlagen | Link: https://ausschreibungsradar.com/ausschreibung/75bb4298-981c-4bef-acc8-7fc0aba23fe8/
URL:https://ausschreibungsradar.com/ausschreibung/75bb4298-981c-4bef-acc8-7fc0aba23fe8/
END:VEVENT
END:VCALENDAR
