BEGIN:VCALENDAR
VERSION:2.0
PRODID:-//AusschreibungsRadar//Timeline//DE
CALSCALE:GREGORIAN
METHOD:PUBLISH
X-WR-CALNAME:Projekt Planung Neubau der Mensa für die Grundschule Darme und Gauer
X-WR-TIMEZONE:Europe/Berlin
BEGIN:VEVENT
UID:0e5687589a16940b@ausschreibungsradar.com
DTSTAMP:20260425T151720Z
DTSTART;VALUE=DATE:20260317
DTEND;VALUE=DATE:20260317
SUMMARY:Angebotsfrist — Planung Neubau der Mensa für die Grundschule Darme und Gauer
DESCRIPTION:Phase: Ausschreibung | Beschreibung: Angebote werden eingeholt | Link: https://ausschreibungsradar.com/ausschreibung/75c7ae94-df6d-4d55-ad4a-d19661bdd167/
URL:https://ausschreibungsradar.com/ausschreibung/75c7ae94-df6d-4d55-ad4a-d19661bdd167/
END:VEVENT
BEGIN:VEVENT
UID:1d74fe747d2589d5@ausschreibungsradar.com
DTSTAMP:20260425T151720Z
DTSTART;VALUE=DATE:20260217
DTEND;VALUE=DATE:20260217
SUMMARY:Ausschreibung — Planung Neubau der Mensa für die Grundschule Darme und Gauer
DESCRIPTION:Phase: Ausschreibung | Beschreibung: Offizielle Ausschreibung mit Bieterfrist. | Link: https://ausschreibungsradar.com/ausschreibung/da00e46e-2add-4000-a13a-12adc3f289ef/
URL:https://ausschreibungsradar.com/ausschreibung/da00e46e-2add-4000-a13a-12adc3f289ef/
END:VEVENT
END:VCALENDAR
