BEGIN:VCALENDAR
VERSION:2.0
PRODID:-//AusschreibungsRadar//Timeline//DE
CALSCALE:GREGORIAN
METHOD:PUBLISH
X-WR-CALNAME:Projekt Fachplanung Freianlagenplanung LPH 1-9 für den Neubau eines 
X-WR-TIMEZONE:Europe/Berlin
BEGIN:VEVENT
UID:cb3ee047ee836ebf@ausschreibungsradar.com
DTSTAMP:20260425T033437Z
DTSTART;VALUE=DATE:20251126
DTEND;VALUE=DATE:20251126
SUMMARY:Ausschreibung — Fachplanung Freianlagenplanung LPH 1-9 für den Neubau eines 
DESCRIPTION:Phase: Ausschreibung | Beschreibung: Angebote werden eingeholt | Link: https://ausschreibungsradar.com/ausschreibung/75fa6a3a-c67a-4b64-b6ef-b73a635423e8/
URL:https://ausschreibungsradar.com/ausschreibung/75fa6a3a-c67a-4b64-b6ef-b73a635423e8/
END:VEVENT
BEGIN:VEVENT
UID:9f1d322cad266c53@ausschreibungsradar.com
DTSTAMP:20260425T033437Z
DTSTART;VALUE=DATE:20260224
DTEND;VALUE=DATE:20260224
SUMMARY:Vergabeergebnis — Fachplanung Freianlagenplanung LPH 1-9 für den Neubau eines 
DESCRIPTION:Phase: Vergabeergebnis | Beschreibung: Auftrag wurde zugeschlagen | Link: https://ausschreibungsradar.com/ausschreibung/e0be82d1-80ea-405c-99be-7832b82cf8ca/
URL:https://ausschreibungsradar.com/ausschreibung/e0be82d1-80ea-405c-99be-7832b82cf8ca/
END:VEVENT
END:VCALENDAR
