BEGIN:VCALENDAR
VERSION:2.0
PRODID:-//AusschreibungsRadar//Timeline//DE
CALSCALE:GREGORIAN
METHOD:PUBLISH
X-WR-CALNAME:Projekt Elektrotechnik für die iKWK BHKW-Anlage und PtH-Anlage sowie
X-WR-TIMEZONE:Europe/Berlin
BEGIN:VEVENT
UID:4622165dad7cff76@ausschreibungsradar.com
DTSTAMP:20260426T041152Z
DTSTART;VALUE=DATE:20240719
DTEND;VALUE=DATE:20240719
SUMMARY:Angebotsfrist — Elektrotechnik für die iKWK BHKW-Anlage und PtH-Anlage sowie
DESCRIPTION:Phase: Ausschreibung | Beschreibung: Angebote werden eingeholt | Link: https://ausschreibungsradar.com/ausschreibung/7743f86a-acc8-4751-a045-97cbdc66aa13/
URL:https://ausschreibungsradar.com/ausschreibung/7743f86a-acc8-4751-a045-97cbdc66aa13/
END:VEVENT
BEGIN:VEVENT
UID:72ac16cfb5a67187@ausschreibungsradar.com
DTSTAMP:20260426T041152Z
DTSTART;VALUE=DATE:20240614
DTEND;VALUE=DATE:20240614
SUMMARY:Ausschreibung — Elektrotechnik für die iKWK BHKW-Anlage und PtH-Anlage sowie
DESCRIPTION:Phase: Ausschreibung | Beschreibung: Offizielle Ausschreibung mit Bieterfrist. | Link: https://ausschreibungsradar.com/ausschreibung/6ab72a9a-3c21-4352-ab2e-a0250b2b4160/
URL:https://ausschreibungsradar.com/ausschreibung/6ab72a9a-3c21-4352-ab2e-a0250b2b4160/
END:VEVENT
BEGIN:VEVENT
UID:3c585614596791c4@ausschreibungsradar.com
DTSTAMP:20260426T041152Z
DTSTART;VALUE=DATE:20240614
DTEND;VALUE=DATE:20240614
SUMMARY:Ausschreibung — Elektrotechnik für die iKWK BHKW-Anlage und PtH-Anlage sowie
DESCRIPTION:Phase: Ausschreibung | Beschreibung: Offizielle Ausschreibung mit Bieterfrist. | Link: https://ausschreibungsradar.com/ausschreibung/22de67bf-08ad-4f6b-853e-eba88aaa324b/
URL:https://ausschreibungsradar.com/ausschreibung/22de67bf-08ad-4f6b-853e-eba88aaa324b/
END:VEVENT
BEGIN:VEVENT
UID:b1c3b5c3dbbb4548@ausschreibungsradar.com
DTSTAMP:20260426T041152Z
DTSTART;VALUE=DATE:20240617
DTEND;VALUE=DATE:20240617
SUMMARY:Ausschreibung — Elektrotechnik für die iKWK BHKW-Anlage und PtH-Anlage sowie
DESCRIPTION:Phase: Ausschreibung | Beschreibung: Offizielle Ausschreibung mit Bieterfrist. | Link: https://ausschreibungsradar.com/ausschreibung/ted-355965-2024/
URL:https://ausschreibungsradar.com/ausschreibung/ted-355965-2024/
END:VEVENT
BEGIN:VEVENT
UID:785a036df3d56cd4@ausschreibungsradar.com
DTSTAMP:20260426T041152Z
DTSTART;VALUE=DATE:20240909
DTEND;VALUE=DATE:20240909
SUMMARY:Vergabeergebnis — Elektrotechnik für die iKWK BHKW-Anlage und PtH-Anlage sowie
DESCRIPTION:Phase: Vergabeergebnis | Beschreibung: Auftrag wurde zugeschlagen | Link: https://ausschreibungsradar.com/ausschreibung/9e714ed2-d9a0-4145-ab6f-687ccb65b089/
URL:https://ausschreibungsradar.com/ausschreibung/9e714ed2-d9a0-4145-ab6f-687ccb65b089/
END:VEVENT
END:VCALENDAR
