BEGIN:VCALENDAR
VERSION:2.0
PRODID:-//AusschreibungsRadar//Timeline//DE
CALSCALE:GREGORIAN
METHOD:PUBLISH
X-WR-CALNAME:Projekt Ausschreibung Gebäudereinigung - Gemeinde Neufahrn b. Freisi
X-WR-TIMEZONE:Europe/Berlin
BEGIN:VEVENT
UID:786a59a2d4f07d85@ausschreibungsradar.com
DTSTAMP:20260426T024507Z
DTSTART;VALUE=DATE:20240904
DTEND;VALUE=DATE:20240904
SUMMARY:Angebotsfrist — Ausschreibung Gebäudereinigung - Gemeinde Neufahrn b. Freisi
DESCRIPTION:Phase: Ausschreibung | Beschreibung: Angebote werden eingeholt | Link: https://ausschreibungsradar.com/ausschreibung/78f978b9-81b2-4d3b-a9ac-6f107dfeeb62/
URL:https://ausschreibungsradar.com/ausschreibung/78f978b9-81b2-4d3b-a9ac-6f107dfeeb62/
END:VEVENT
BEGIN:VEVENT
UID:67bfe5b3874c8577@ausschreibungsradar.com
DTSTAMP:20260426T024507Z
DTSTART;VALUE=DATE:20241106
DTEND;VALUE=DATE:20241106
SUMMARY:Vergabeergebnis — Ausschreibung Gebäudereinigung - Gemeinde Neufahrn b. Freisi
DESCRIPTION:Phase: Vergabeergebnis | Beschreibung: Auftrag wurde zugeschlagen | Link: https://ausschreibungsradar.com/ausschreibung/272afd2e-ee77-46b0-85ef-d59f29afac65/
URL:https://ausschreibungsradar.com/ausschreibung/272afd2e-ee77-46b0-85ef-d59f29afac65/
END:VEVENT
END:VCALENDAR
