BEGIN:VCALENDAR
VERSION:2.0
PRODID:-//AusschreibungsRadar//Timeline//DE
CALSCALE:GREGORIAN
METHOD:PUBLISH
X-WR-CALNAME:Projekt Hardware für Virtualisierungsumgebung
X-WR-TIMEZONE:Europe/Berlin
BEGIN:VEVENT
UID:c07d91d35c5d0d10@ausschreibungsradar.com
DTSTAMP:20260425T151715Z
DTSTART;VALUE=DATE:20251023
DTEND;VALUE=DATE:20251023
SUMMARY:Angebotsfrist — Hardware für Virtualisierungsumgebung
DESCRIPTION:Phase: Ausschreibung | Beschreibung: Angebote werden eingeholt | Link: https://ausschreibungsradar.com/ausschreibung/793658de-8c68-453e-b7b4-20fea9bf5d0e/
URL:https://ausschreibungsradar.com/ausschreibung/793658de-8c68-453e-b7b4-20fea9bf5d0e/
END:VEVENT
BEGIN:VEVENT
UID:ce0c1dcaa5160a9a@ausschreibungsradar.com
DTSTAMP:20260425T151715Z
DTSTART;VALUE=DATE:20251114
DTEND;VALUE=DATE:20251114
SUMMARY:Vergabeergebnis — Hardware für Virtualisierungsumgebung
DESCRIPTION:Phase: Vergabeergebnis | Beschreibung: Auftrag wurde zugeschlagen | Link: https://ausschreibungsradar.com/ausschreibung/41beb9cf-3a5e-491a-a5fd-f18bde44fd60/
URL:https://ausschreibungsradar.com/ausschreibung/41beb9cf-3a5e-491a-a5fd-f18bde44fd60/
END:VEVENT
END:VCALENDAR
