BEGIN:VCALENDAR
VERSION:2.0
PRODID:-//AusschreibungsRadar//Timeline//DE
CALSCALE:GREGORIAN
METHOD:PUBLISH
X-WR-CALNAME:Projekt Planung der Technischen Gebäudeausrüstung für den Neubau Bad
X-WR-TIMEZONE:Europe/Berlin
BEGIN:VEVENT
UID:07eb6e036299a548@ausschreibungsradar.com
DTSTAMP:20260425T184903Z
DTSTART;VALUE=DATE:20250416
DTEND;VALUE=DATE:20250416
SUMMARY:Ausschreibung — Planung der Technischen Gebäudeausrüstung für den Neubau Bad
DESCRIPTION:Phase: Ausschreibung | Beschreibung: Angebote werden eingeholt | Link: https://ausschreibungsradar.com/ausschreibung/7a65e31b-3dc2-4aa3-af82-724b6d2a4642/
URL:https://ausschreibungsradar.com/ausschreibung/7a65e31b-3dc2-4aa3-af82-724b6d2a4642/
END:VEVENT
BEGIN:VEVENT
UID:52479aae243c5947@ausschreibungsradar.com
DTSTAMP:20260425T184903Z
DTSTART;VALUE=DATE:20250416
DTEND;VALUE=DATE:20250416
SUMMARY:Ausschreibung — Planung der Technischen Gebäudeausrüstung für den Neubau Bad
DESCRIPTION:Phase: Ausschreibung | Beschreibung: Offizielle Ausschreibung mit Bieterfrist. | Link: https://ausschreibungsradar.com/ausschreibung/f1db873f-ea1f-4669-884a-bf6a674b8955/
URL:https://ausschreibungsradar.com/ausschreibung/f1db873f-ea1f-4669-884a-bf6a674b8955/
END:VEVENT
END:VCALENDAR
