BEGIN:VCALENDAR
VERSION:2.0
PRODID:-//AusschreibungsRadar//Timeline//DE
CALSCALE:GREGORIAN
METHOD:PUBLISH
X-WR-CALNAME:Projekt Rohbauarbeiten
X-WR-TIMEZONE:Europe/Berlin
BEGIN:VEVENT
UID:30c43595e3a891ce@ausschreibungsradar.com
DTSTAMP:20260425T023838Z
DTSTART;VALUE=DATE:20260114
DTEND;VALUE=DATE:20260114
SUMMARY:Angebotsfrist — Rohbauarbeiten
DESCRIPTION:Phase: Ausschreibung | Beschreibung: Angebote werden eingeholt | Link: https://ausschreibungsradar.com/ausschreibung/341ae237-e07d-41da-8ce5-0b153c6a501b/
URL:https://ausschreibungsradar.com/ausschreibung/341ae237-e07d-41da-8ce5-0b153c6a501b/
END:VEVENT
BEGIN:VEVENT
UID:a50400fa8ca85e48@ausschreibungsradar.com
DTSTAMP:20260425T023838Z
DTSTART;VALUE=DATE:20260309
DTEND;VALUE=DATE:20260309
SUMMARY:Vergabeergebnis — Rohbauarbeiten
DESCRIPTION:Phase: Vergabeergebnis | Beschreibung: Auftrag wurde zugeschlagen | Link: https://ausschreibungsradar.com/ausschreibung/7b3aa549-161d-45e4-b00d-71522e3cb2ef/ | Auftragnehmer: Heinrich Karstens GmbH & 
URL:https://ausschreibungsradar.com/ausschreibung/7b3aa549-161d-45e4-b00d-71522e3cb2ef/
END:VEVENT
END:VCALENDAR
