BEGIN:VCALENDAR
VERSION:2.0
PRODID:-//AusschreibungsRadar//Timeline//DE
CALSCALE:GREGORIAN
METHOD:PUBLISH
X-WR-CALNAME:Projekt Open house Arzneimittelrabattverträge Cabotegravir in der Da
X-WR-TIMEZONE:Europe/Berlin
BEGIN:VEVENT
UID:4abc8d503eb6589f@ausschreibungsradar.com
DTSTAMP:20260424T062544Z
DTSTART;VALUE=DATE:20260413
DTEND;VALUE=DATE:20260413
SUMMARY:Ausschreibung — Open house Arzneimittelrabattverträge Cabotegravir in der Da
DESCRIPTION:Phase: Ausschreibung | Beschreibung: Offizielle Ausschreibung mit Bieterfrist. | Link: https://ausschreibungsradar.com/ausschreibung/7c2b6c8a-fab2-49eb-88be-bcae7398d268/
URL:https://ausschreibungsradar.com/ausschreibung/7c2b6c8a-fab2-49eb-88be-bcae7398d268/
END:VEVENT
BEGIN:VEVENT
UID:1c36181136eb8461@ausschreibungsradar.com
DTSTAMP:20260424T062544Z
DTSTART;VALUE=DATE:20260413
DTEND;VALUE=DATE:20260413
SUMMARY:Ausschreibung — Open house Arzneimittelrabattverträge Cabotegravir in der Da
DESCRIPTION:Phase: Ausschreibung | Beschreibung: Offizielle Ausschreibung mit Bieterfrist. | Link: https://ausschreibungsradar.com/ausschreibung/32fb2100-8a98-42d0-9340-e3ece66e3bb7/
URL:https://ausschreibungsradar.com/ausschreibung/32fb2100-8a98-42d0-9340-e3ece66e3bb7/
END:VEVENT
BEGIN:VEVENT
UID:ef2eb7ecd423377b@ausschreibungsradar.com
DTSTAMP:20260424T062544Z
DTSTART;VALUE=DATE:20260413
DTEND;VALUE=DATE:20260413
SUMMARY:Ausschreibung — Open house Arzneimittelrabattverträge Cabotegravir in der Da
DESCRIPTION:Phase: Ausschreibung | Beschreibung: Offizielle Ausschreibung mit Bieterfrist. | Link: https://ausschreibungsradar.com/ausschreibung/df4a123b-11ae-409d-8837-273c18949f54/
URL:https://ausschreibungsradar.com/ausschreibung/df4a123b-11ae-409d-8837-273c18949f54/
END:VEVENT
BEGIN:VEVENT
UID:906d08084f0622af@ausschreibungsradar.com
DTSTAMP:20260424T062544Z
DTSTART;VALUE=DATE:20260413
DTEND;VALUE=DATE:20260413
SUMMARY:Ausschreibung — Open house Arzneimittelrabattverträge Cabotegravir in der Da
DESCRIPTION:Phase: Ausschreibung | Beschreibung: Offizielle Ausschreibung mit Bieterfrist. | Link: https://ausschreibungsradar.com/ausschreibung/67fcbaa2-af73-4f0c-b864-b41ca7f4fbdc/
URL:https://ausschreibungsradar.com/ausschreibung/67fcbaa2-af73-4f0c-b864-b41ca7f4fbdc/
END:VEVENT
BEGIN:VEVENT
UID:f8f5ce5f91f2d170@ausschreibungsradar.com
DTSTAMP:20260424T062544Z
DTSTART;VALUE=DATE:20260413
DTEND;VALUE=DATE:20260413
SUMMARY:Ausschreibung — Open house Arzneimittelrabattverträge Cabotegravir in der Da
DESCRIPTION:Phase: Ausschreibung | Beschreibung: Offizielle Ausschreibung mit Bieterfrist. | Link: https://ausschreibungsradar.com/ausschreibung/b66269c9-3182-434e-8f38-91233ae86921/
URL:https://ausschreibungsradar.com/ausschreibung/b66269c9-3182-434e-8f38-91233ae86921/
END:VEVENT
BEGIN:VEVENT
UID:41716e171865a559@ausschreibungsradar.com
DTSTAMP:20260424T062544Z
DTSTART;VALUE=DATE:20260413
DTEND;VALUE=DATE:20260413
SUMMARY:Ausschreibung — Open house Arzneimittelrabattverträge Cabotegravir in der Da
DESCRIPTION:Phase: Ausschreibung | Beschreibung: Offizielle Ausschreibung mit Bieterfrist. | Link: https://ausschreibungsradar.com/ausschreibung/21f48c3c-781f-4543-82af-ffc80b11241a/
URL:https://ausschreibungsradar.com/ausschreibung/21f48c3c-781f-4543-82af-ffc80b11241a/
END:VEVENT
END:VCALENDAR
