BEGIN:VCALENDAR
VERSION:2.0
PRODID:-//AusschreibungsRadar//Timeline//DE
CALSCALE:GREGORIAN
METHOD:PUBLISH
X-WR-CALNAME:Projekt LLA - Neubau eines Gästehauses für 60 Betten - Estricharbeit
X-WR-TIMEZONE:Europe/Berlin
BEGIN:VEVENT
UID:84de7c83a99e110c@ausschreibungsradar.com
DTSTAMP:20260424T152746Z
DTSTART;VALUE=DATE:20251118
DTEND;VALUE=DATE:20251118
SUMMARY:Ausschreibung — LLA - Neubau eines Gästehauses für 60 Betten - Estricharbeit
DESCRIPTION:Phase: Ausschreibung | Beschreibung: Offizielle Ausschreibung mit Bieterfrist. | Link: https://ausschreibungsradar.com/ausschreibung/61bf4ad9-438c-492a-9967-6014c55e72a8/
URL:https://ausschreibungsradar.com/ausschreibung/61bf4ad9-438c-492a-9967-6014c55e72a8/
END:VEVENT
BEGIN:VEVENT
UID:d95eacaa2fe82551@ausschreibungsradar.com
DTSTAMP:20260424T152746Z
DTSTART;VALUE=DATE:20251119
DTEND;VALUE=DATE:20251119
SUMMARY:Ausschreibung — LLA - Neubau eines Gästehauses für 60 Betten - Estricharbeit
DESCRIPTION:Phase: Ausschreibung | Beschreibung: Offizielle Ausschreibung mit Bieterfrist. | Link: https://ausschreibungsradar.com/ausschreibung/dd3f8041-dc01-4727-a029-b5dfca742e81/
URL:https://ausschreibungsradar.com/ausschreibung/dd3f8041-dc01-4727-a029-b5dfca742e81/
END:VEVENT
BEGIN:VEVENT
UID:1b345f59854d2cab@ausschreibungsradar.com
DTSTAMP:20260424T152746Z
DTSTART;VALUE=DATE:20251120
DTEND;VALUE=DATE:20251120
SUMMARY:Ausschreibung — LLA - Neubau eines Gästehauses für 60 Betten - Estricharbeit
DESCRIPTION:Phase: Ausschreibung | Beschreibung: Offizielle Ausschreibung mit Bieterfrist. | Link: https://ausschreibungsradar.com/ausschreibung/22d3fc2f-013d-41d7-b16f-48ccfad0169c/
URL:https://ausschreibungsradar.com/ausschreibung/22d3fc2f-013d-41d7-b16f-48ccfad0169c/
END:VEVENT
BEGIN:VEVENT
UID:d00549da1e76642d@ausschreibungsradar.com
DTSTAMP:20260424T152746Z
DTSTART;VALUE=DATE:20260122
DTEND;VALUE=DATE:20260122
SUMMARY:Angebotsfrist — LLA - Neubau eines Gästehauses für 60 Betten - Estricharbeit
DESCRIPTION:Phase: Ausschreibung | Beschreibung: Angebote werden eingeholt | Link: https://ausschreibungsradar.com/ausschreibung/7cd3ee8f-bc15-41a2-96bd-92ea0c85d58b/
URL:https://ausschreibungsradar.com/ausschreibung/7cd3ee8f-bc15-41a2-96bd-92ea0c85d58b/
END:VEVENT
BEGIN:VEVENT
UID:5d84396992c3967f@ausschreibungsradar.com
DTSTAMP:20260424T152746Z
DTSTART;VALUE=DATE:20251210
DTEND;VALUE=DATE:20251210
SUMMARY:Ausschreibung — LLA - Neubau eines Gästehauses für 60 Betten - Estricharbeit
DESCRIPTION:Phase: Ausschreibung | Beschreibung: Offizielle Ausschreibung mit Bieterfrist. | Link: https://ausschreibungsradar.com/ausschreibung/45fd7ffe-e768-47dd-afac-6c45a51cd09a/
URL:https://ausschreibungsradar.com/ausschreibung/45fd7ffe-e768-47dd-afac-6c45a51cd09a/
END:VEVENT
BEGIN:VEVENT
UID:d994e0fa9aa99380@ausschreibungsradar.com
DTSTAMP:20260424T152746Z
DTSTART;VALUE=DATE:20260224
DTEND;VALUE=DATE:20260224
SUMMARY:Vergabeergebnis — LLA - Neubau eines Gästehauses für 60 Betten - Estricharbeit
DESCRIPTION:Phase: Vergabeergebnis | Beschreibung: Auftrag wurde zugeschlagen | Link: https://ausschreibungsradar.com/ausschreibung/c3c4e6bf-031a-4d13-a33d-afc5e635a206/
URL:https://ausschreibungsradar.com/ausschreibung/c3c4e6bf-031a-4d13-a33d-afc5e635a206/
END:VEVENT
END:VCALENDAR
