BEGIN:VCALENDAR
VERSION:2.0
PRODID:-//AusschreibungsRadar//Timeline//DE
CALSCALE:GREGORIAN
METHOD:PUBLISH
X-WR-CALNAME:Projekt Bekanntmachung vergebener Aufträge nach § 130 a Abs. 8 SGB V
X-WR-TIMEZONE:Europe/Berlin
BEGIN:VEVENT
UID:ddf0177615b96fdb@ausschreibungsradar.com
DTSTAMP:20260424T020533Z
DTSTART;VALUE=DATE:20260225
DTEND;VALUE=DATE:20260225
SUMMARY:Zuschlag — Bekanntmachung vergebener Aufträge nach § 130 a Abs. 8 SGB V
DESCRIPTION:Phase: Zuschlag | Beschreibung: Vergabeergebnis — Auftrag wurde erteilt oder Verfahren beendet. | Link: https://ausschreibungsradar.com/ausschreibung/7e4e65aa-c3a7-44bd-a237-0c94e239dd90/ | Geschätzte
URL:https://ausschreibungsradar.com/ausschreibung/7e4e65aa-c3a7-44bd-a237-0c94e239dd90/
END:VEVENT
BEGIN:VEVENT
UID:69792578ffbfef2d@ausschreibungsradar.com
DTSTAMP:20260424T020533Z
DTSTART;VALUE=DATE:20260225
DTEND;VALUE=DATE:20260225
SUMMARY:Zuschlag — Bekanntmachung vergebener Aufträge nach § 130 a Abs. 8 SGB V
DESCRIPTION:Phase: Zuschlag | Beschreibung: Vergabeergebnis — Auftrag wurde erteilt oder Verfahren beendet. | Link: https://ausschreibungsradar.com/ausschreibung/d8a8b4a3-912f-4bb4-a0b4-3cdede60442b/
URL:https://ausschreibungsradar.com/ausschreibung/d8a8b4a3-912f-4bb4-a0b4-3cdede60442b/
END:VEVENT
BEGIN:VEVENT
UID:c9df2a6116a9334c@ausschreibungsradar.com
DTSTAMP:20260424T020533Z
DTSTART;VALUE=DATE:20260225
DTEND;VALUE=DATE:20260225
SUMMARY:Zuschlag — Bekanntmachung vergebener Aufträge nach § 130 a Abs. 8 SGB V
DESCRIPTION:Phase: Zuschlag | Beschreibung: Vergabeergebnis — Auftrag wurde erteilt oder Verfahren beendet. | Link: https://ausschreibungsradar.com/ausschreibung/677b6faa-207a-4e3d-b05e-556c51a8cab8/
URL:https://ausschreibungsradar.com/ausschreibung/677b6faa-207a-4e3d-b05e-556c51a8cab8/
END:VEVENT
END:VCALENDAR
