BEGIN:VCALENDAR
VERSION:2.0
PRODID:-//AusschreibungsRadar//Timeline//DE
CALSCALE:GREGORIAN
METHOD:PUBLISH
X-WR-CALNAME:Projekt Sanierung Tiefgarage Marktplatz Sindelfingen - TP3 Neugestal
X-WR-TIMEZONE:Europe/Berlin
BEGIN:VEVENT
UID:1a01345b28c8e8d8@ausschreibungsradar.com
DTSTAMP:20260425T003859Z
DTSTART;VALUE=DATE:20251020
DTEND;VALUE=DATE:20251020
SUMMARY:Angebotsfrist — Sanierung Tiefgarage Marktplatz Sindelfingen - TP3 Neugestal
DESCRIPTION:Phase: Ausschreibung | Beschreibung: Angebote werden eingeholt | Link: https://ausschreibungsradar.com/ausschreibung/5d9302ef-6e4e-49c7-b6fb-d99642a59c42/
URL:https://ausschreibungsradar.com/ausschreibung/5d9302ef-6e4e-49c7-b6fb-d99642a59c42/
END:VEVENT
BEGIN:VEVENT
UID:5965ad1d7f3be473@ausschreibungsradar.com
DTSTAMP:20260425T003859Z
DTSTART;VALUE=DATE:20260121
DTEND;VALUE=DATE:20260121
SUMMARY:Zuschlag — Sanierung Tiefgarage Marktplatz Sindelfingen - TP3 Neugestal
DESCRIPTION:Phase: Zuschlag | Beschreibung: Vergabeergebnis — Auftrag wurde erteilt oder Verfahren beendet. | Link: https://ausschreibungsradar.com/ausschreibung/8544bec3-3368-4df0-9bfd-51942fc51dcd/
URL:https://ausschreibungsradar.com/ausschreibung/8544bec3-3368-4df0-9bfd-51942fc51dcd/
END:VEVENT
BEGIN:VEVENT
UID:1474b2685373f69a@ausschreibungsradar.com
DTSTAMP:20260425T003859Z
DTSTART;VALUE=DATE:20260206
DTEND;VALUE=DATE:20260206
SUMMARY:Vergabeergebnis — Sanierung Tiefgarage Marktplatz Sindelfingen - TP3 Neugestal
DESCRIPTION:Phase: Vergabeergebnis | Beschreibung: Auftrag wurde zugeschlagen | Link: https://ausschreibungsradar.com/ausschreibung/7e8fb3c7-4928-47b4-9b26-fb04d84662e2/
URL:https://ausschreibungsradar.com/ausschreibung/7e8fb3c7-4928-47b4-9b26-fb04d84662e2/
END:VEVENT
END:VCALENDAR
