BEGIN:VCALENDAR
VERSION:2.0
PRODID:-//AusschreibungsRadar//Timeline//DE
CALSCALE:GREGORIAN
METHOD:PUBLISH
X-WR-CALNAME:Projekt 2000208837 SL IPv6: Adressierung, Routing, Interworking, Sec
X-WR-TIMEZONE:Europe/Berlin
BEGIN:VEVENT
UID:6fede35a68648cdd@ausschreibungsradar.com
DTSTAMP:20260425T113558Z
DTSTART;VALUE=DATE:20231124
DTEND;VALUE=DATE:20231124
SUMMARY:Ausschreibung — 2000208837 SL IPv6: Adressierung\, Routing\, Interworking\, Sec
DESCRIPTION:Phase: Ausschreibung | Beschreibung: Angebote werden eingeholt | Link: https://ausschreibungsradar.com/ausschreibung/45028838-7fd6-4f34-bf84-15d41f844636/
URL:https://ausschreibungsradar.com/ausschreibung/45028838-7fd6-4f34-bf84-15d41f844636/
END:VEVENT
BEGIN:VEVENT
UID:68d8a13c84e6c38a@ausschreibungsradar.com
DTSTAMP:20260425T113558Z
DTSTART;VALUE=DATE:20260326
DTEND;VALUE=DATE:20260326
SUMMARY:Zuschlag — 2000208837 SL IPv6: Adressierung\, Routing\, Interworking\, Sec
DESCRIPTION:Phase: Zuschlag | Beschreibung: Vergabeergebnis — Auftrag wurde erteilt oder Verfahren beendet. | Link: https://ausschreibungsradar.com/ausschreibung/50f3cab9-2b71-4600-b7bd-eac2811ff9d4/
URL:https://ausschreibungsradar.com/ausschreibung/50f3cab9-2b71-4600-b7bd-eac2811ff9d4/
END:VEVENT
BEGIN:VEVENT
UID:90b9edbe08a212b0@ausschreibungsradar.com
DTSTAMP:20260425T113558Z
DTSTART;VALUE=DATE:20260326
DTEND;VALUE=DATE:20260326
SUMMARY:Zuschlag — 2000208837 SL IPv6: Adressierung\, Routing\, Interworking\, Sec
DESCRIPTION:Phase: Zuschlag | Beschreibung: Vergabeergebnis — Auftrag wurde erteilt oder Verfahren beendet. | Link: https://ausschreibungsradar.com/ausschreibung/a21e3cad-41f3-4f13-9629-6387e5587e75/
URL:https://ausschreibungsradar.com/ausschreibung/a21e3cad-41f3-4f13-9629-6387e5587e75/
END:VEVENT
BEGIN:VEVENT
UID:99bed2ec9291d08c@ausschreibungsradar.com
DTSTAMP:20260425T113558Z
DTSTART;VALUE=DATE:20260326
DTEND;VALUE=DATE:20260326
SUMMARY:Zuschlag — 2000208837 SL IPv6: Adressierung\, Routing\, Interworking\, Sec
DESCRIPTION:Phase: Zuschlag | Beschreibung: Vergabeergebnis — Auftrag wurde erteilt oder Verfahren beendet. | Link: https://ausschreibungsradar.com/ausschreibung/a77f5f59-e1f9-48a4-be61-1e0b170e2a1f/
URL:https://ausschreibungsradar.com/ausschreibung/a77f5f59-e1f9-48a4-be61-1e0b170e2a1f/
END:VEVENT
BEGIN:VEVENT
UID:745aef66f5902cf9@ausschreibungsradar.com
DTSTAMP:20260425T113558Z
DTSTART;VALUE=DATE:20260326
DTEND;VALUE=DATE:20260326
SUMMARY:Zuschlag — 2000208837 SL IPv6: Adressierung\, Routing\, Interworking\, Sec
DESCRIPTION:Phase: Zuschlag | Beschreibung: Vergabeergebnis — Auftrag wurde erteilt oder Verfahren beendet. | Link: https://ausschreibungsradar.com/ausschreibung/a24ae0bb-1809-4d0b-b34a-91a98410443d/
URL:https://ausschreibungsradar.com/ausschreibung/a24ae0bb-1809-4d0b-b34a-91a98410443d/
END:VEVENT
BEGIN:VEVENT
UID:355103399230d8c0@ausschreibungsradar.com
DTSTAMP:20260425T113558Z
DTSTART;VALUE=DATE:20260413
DTEND;VALUE=DATE:20260413
SUMMARY:Vergabeergebnis — 2000208837 SL IPv6: Adressierung\, Routing\, Interworking\, Sec
DESCRIPTION:Phase: Vergabeergebnis | Beschreibung: Auftrag wurde zugeschlagen | Link: https://ausschreibungsradar.com/ausschreibung/7e956e4f-bfb6-4b77-90d0-68ec3164c509/
URL:https://ausschreibungsradar.com/ausschreibung/7e956e4f-bfb6-4b77-90d0-68ec3164c509/
END:VEVENT
BEGIN:VEVENT
UID:c8120b15e9d050b1@ausschreibungsradar.com
DTSTAMP:20260425T113558Z
DTSTART;VALUE=DATE:20260413
DTEND;VALUE=DATE:20260413
SUMMARY:Zuschlag — 2000208837 SL IPv6: Adressierung\, Routing\, Interworking\, Sec
DESCRIPTION:Phase: Zuschlag | Beschreibung: Vergabeergebnis — Auftrag wurde erteilt oder Verfahren beendet. | Link: https://ausschreibungsradar.com/ausschreibung/fbc01fd9-73f8-4526-a5a4-fba31225fbe9/
URL:https://ausschreibungsradar.com/ausschreibung/fbc01fd9-73f8-4526-a5a4-fba31225fbe9/
END:VEVENT
END:VCALENDAR
