BEGIN:VCALENDAR
VERSION:2.0
PRODID:-//AusschreibungsRadar//Timeline//DE
CALSCALE:GREGORIAN
METHOD:PUBLISH
X-WR-CALNAME:Projekt Lieferung von Büromöbel,; Abschluss einer Rahmenvereinbarung
X-WR-TIMEZONE:Europe/Berlin
BEGIN:VEVENT
UID:a71805f35b996c3b@ausschreibungsradar.com
DTSTAMP:20260425T000425Z
DTSTART;VALUE=DATE:20251114
DTEND;VALUE=DATE:20251114
SUMMARY:Angebotsfrist — Lieferung von Büromöbel\,\; Abschluss einer Rahmenvereinbarung
DESCRIPTION:Phase: Ausschreibung | Beschreibung: Angebote werden eingeholt | Link: https://ausschreibungsradar.com/ausschreibung/df9bfc53-a956-4fe5-b96f-953377eefc7a/
URL:https://ausschreibungsradar.com/ausschreibung/df9bfc53-a956-4fe5-b96f-953377eefc7a/
END:VEVENT
BEGIN:VEVENT
UID:107b1f8827064196@ausschreibungsradar.com
DTSTAMP:20260425T000425Z
DTSTART;VALUE=DATE:20251010
DTEND;VALUE=DATE:20251010
SUMMARY:Ausschreibung — Lieferung von Büromöbel\,\; Abschluss einer Rahmenvereinbarung
DESCRIPTION:Phase: Ausschreibung | Beschreibung: Offizielle Ausschreibung mit Bieterfrist. | Link: https://ausschreibungsradar.com/ausschreibung/b4aca5e4-e1a4-4604-8f68-82321f5ddbd3/
URL:https://ausschreibungsradar.com/ausschreibung/b4aca5e4-e1a4-4604-8f68-82321f5ddbd3/
END:VEVENT
BEGIN:VEVENT
UID:607b73d0e9c59d7b@ausschreibungsradar.com
DTSTAMP:20260425T000425Z
DTSTART;VALUE=DATE:20260225
DTEND;VALUE=DATE:20260225
SUMMARY:Vergabeergebnis — Lieferung von Büromöbel\,\; Abschluss einer Rahmenvereinbarung
DESCRIPTION:Phase: Vergabeergebnis | Beschreibung: Auftrag wurde zugeschlagen | Link: https://ausschreibungsradar.com/ausschreibung/7ea4a8ac-7217-43df-a831-0bc5bf8e7701/
URL:https://ausschreibungsradar.com/ausschreibung/7ea4a8ac-7217-43df-a831-0bc5bf8e7701/
END:VEVENT
END:VCALENDAR
